BEGIN:VCALENDAR
VERSION:2.0
PRODID:-//.lkj) Sachsen-Anhalt e.V. - ECPv6.15.20//NONSGML v1.0//EN
CALSCALE:GREGORIAN
METHOD:PUBLISH
X-ORIGINAL-URL:https://www.lkj-lsa.de
X-WR-CALDESC:Veranstaltungen für .lkj) Sachsen-Anhalt e.V.
REFRESH-INTERVAL;VALUE=DURATION:PT1H
X-Robots-Tag:noindex
X-PUBLISHED-TTL:PT1H
BEGIN:VTIMEZONE
TZID:Europe/Berlin
BEGIN:DAYLIGHT
TZOFFSETFROM:+0100
TZOFFSETTO:+0200
TZNAME:CEST
DTSTART:20180325T010000
END:DAYLIGHT
BEGIN:STANDARD
TZOFFSETFROM:+0200
TZOFFSETTO:+0100
TZNAME:CET
DTSTART:20181028T010000
END:STANDARD
BEGIN:DAYLIGHT
TZOFFSETFROM:+0100
TZOFFSETTO:+0200
TZNAME:CEST
DTSTART:20190331T010000
END:DAYLIGHT
BEGIN:STANDARD
TZOFFSETFROM:+0200
TZOFFSETTO:+0100
TZNAME:CET
DTSTART:20191027T010000
END:STANDARD
BEGIN:DAYLIGHT
TZOFFSETFROM:+0100
TZOFFSETTO:+0200
TZNAME:CEST
DTSTART:20200329T010000
END:DAYLIGHT
BEGIN:STANDARD
TZOFFSETFROM:+0200
TZOFFSETTO:+0100
TZNAME:CET
DTSTART:20201025T010000
END:STANDARD
END:VTIMEZONE
BEGIN:VEVENT
DTSTART;VALUE=DATE:20190329
DTEND;VALUE=DATE:20190331
DTSTAMP:20260423T210835
CREATED:20190208T115854Z
LAST-MODIFIED:20190312T101253Z
UID:10837-1553817600-1553990399@www.lkj-lsa.de
SUMMARY:Anti-Rassismus- und Allyship-Training || Multiplikator*innen-Schulung
DESCRIPTION:Seminar zum Thema (Anti-)Rassismus und Allyship\n\nIn dem Workshop „How to be an Ally?“ entwickeln die Teilnehmenden Strategien\nund Handlungsmöglichkeiten zur Unterstützung von rassismusbetroffenen Menschen\nim Alltag. Es wird ein offener und diskriminierungskritischer Raum geschaffen\, in\ndem Unsicherheiten reflektiert werden\, die weiße Menschen bei der\nAuseinandersetzung mit Rassismus erfahren. Zudem wird erarbeitet\, wie in konkreten\nSituationen agiert werden kann\, um als Verbündete für Schwarze Menschen und\nPeople of Color in Deutschland auftreten zu können und diese zu empowern.  \nDas Seminar ist Teil der inhaltlichen Auseinandersetzung einer Multiplikator*innen-Ausbildung im Projekt »SPEAK UP! Your voice matters | Gemeinsam gegen Diskriminierung« und wird gefördert durch die Bundeszentrale für politische Bildung. Für mehr Informationen zum Projekt kontaktiere uns per Mail: speakup@lkj-lsa.de \n// Wer: Menschen zwischen 16 und 21 Jahren in Sachsen-Anhalt\n// Wann: 29. bis 30. März 2019\n// Wo: .lkj) Sachsen-Anhalt e.V.\nBrandenburger Straße 9\,\n39104 Magdeburg\n// Wichtig: Die Teilnahme an dem Seminar ist kostenlos. Die Fahrtkosten von deinem Wohnort zum Seminar bekommst du von uns erstattet. Bitte wähle eine günstige Reisevariante und bilde Fahrgemeinschaften. Wir helfen dir gerne weiter! \nFragen und Anmeldung bis 20. März via Mail: anna.mueller@lkj-lsa.de
URL:https://www.lkj-lsa.de/kalender/anti-rassismus-allyship-speak-up/
LOCATION:Forum Gestaltung\, Brandenburger Str. 9\, Magdeburg\, Sachsen-Anhalt\, 39104\, Deutschland
CATEGORIES:Speak Up
END:VEVENT
END:VCALENDAR