BEGIN:VCALENDAR
VERSION:2.0
PRODID:-//.lkj) Sachsen-Anhalt e.V. - ECPv6.15.20//NONSGML v1.0//EN
CALSCALE:GREGORIAN
METHOD:PUBLISH
X-ORIGINAL-URL:https://www.lkj-lsa.de
X-WR-CALDESC:Veranstaltungen für .lkj) Sachsen-Anhalt e.V.
REFRESH-INTERVAL;VALUE=DURATION:PT1H
X-Robots-Tag:noindex
X-PUBLISHED-TTL:PT1H
BEGIN:VTIMEZONE
TZID:Europe/Berlin
BEGIN:DAYLIGHT
TZOFFSETFROM:+0100
TZOFFSETTO:+0200
TZNAME:CEST
DTSTART:20180325T010000
END:DAYLIGHT
BEGIN:STANDARD
TZOFFSETFROM:+0200
TZOFFSETTO:+0100
TZNAME:CET
DTSTART:20181028T010000
END:STANDARD
BEGIN:DAYLIGHT
TZOFFSETFROM:+0100
TZOFFSETTO:+0200
TZNAME:CEST
DTSTART:20190331T010000
END:DAYLIGHT
BEGIN:STANDARD
TZOFFSETFROM:+0200
TZOFFSETTO:+0100
TZNAME:CET
DTSTART:20191027T010000
END:STANDARD
BEGIN:DAYLIGHT
TZOFFSETFROM:+0100
TZOFFSETTO:+0200
TZNAME:CEST
DTSTART:20200329T010000
END:DAYLIGHT
BEGIN:STANDARD
TZOFFSETFROM:+0200
TZOFFSETTO:+0100
TZNAME:CET
DTSTART:20201025T010000
END:STANDARD
END:VTIMEZONE
BEGIN:VEVENT
DTSTART;TZID=Europe/Berlin:20190630T150000
DTEND;TZID=Europe/Berlin:20190630T220000
DTSTAMP:20260421T134141
CREATED:20190625T064440Z
LAST-MODIFIED:20190625T065216Z
UID:13344-1561906800-1561932000@www.lkj-lsa.de
SUMMARY:Kritischer Sonntag // Sonita
DESCRIPTION:Ihr habt die Möglichkeit an allen Programmpunkten des Tages teilzunehmen\, aber müsst es natürlich nicht! Kommt wann ihr wollt. Es wäre schön\, wenn ihr euch für den Workshop anmeldet. Wo und wie erfahrt ihr im nächsten Abschnitt. \n15 – 18 UHR THEATERWORKSHOP \nReferent: Robert Klement Spielleiter für Forum- und Dialogtheater\,\nTheatertherapeut und Budobasierter Achtsamkeitstrainer bei ROTE RÜBE in Leipzig \nRobert wird einen Workshop zum Thema gemeinschaftsfördernde Theatermethoden und kreative Selbsterfahrung geben. Ihr könnt mit Hilfe einiger Theater Methoden und dem Spielen selbst an eurem Auftreten und eurer Sicherheit arbeiten. \nWenn ihr Lust habt\, dann meldet euch gerne unter dieser Email Adresse:\nkritischer.sonntag@lkj-lsa.de\nMeldet euch schnell an\, die Plätze sind begrenzt! Schickt in der Mail einfach euren Namen und eurer Alter und ihr seid dabei! \n18 UHR // KÜFA \nab 18 Uhr gibt es dann wieder Küche für Alle. Die Küche für alle ist kostenlos und wir laden alle herzlich ein vorbei zu kommen und vor dem Film zusammen zu essen. \n20 UHR // KRITISCHES SONNTAGSKINO // Sonita \nSonita ist ein Dokumentarfilm aus dem Jahr 2015 von Rokhsareh Ghaemmaghami.\nDie Dokumentation zeichnet das Schicksal einer Frau aus Afghanistan nach\, die von ihren Eltern zwangverheiratet werden soll\, aber eigentlich von einer Karriere als Rapperin träumt. \n„Wenn ein Mädchen zur Braut wird\, sind ihre grundlegenden Menschenrechte erschüttert: Sie verliert fast immer ihre Chance auf eine Ausbildung\, ihre Gesundheit wird in Gefahr gebracht und ihre Sicherheit gefährdet. Die Kinderehe findet überall statt. Es zerstört das Leben von Mädchen\, wirkt sich negativ auf die Gemeinschaften aus und behindert letztlich das Wachstum der Nationen.\nAls junge Frau\, die fast selbst zur Kinderbraut geworden ist\, ist sich Sonita Alizadeh der verheerenden Folgen von Zwangsheirat bewusst. Sonita wurde unter dem Taliban-Regime in Afghanistan geboren\, wuchs aber als undokumentierte Geflüchtete im Iran auf\, wo sie als Jugendliche mit Zwangsheirat konfrontiert wurde. Noch unsicher über ihr Schicksal im Jahr 2014\, schrieb sie das Lied Töchter zum Verkauf\, um ihren Schmerz auszudrücken und ihre Erfahrungen und die Erfahrungen so vieler ihrer Freunde zu teilen. Der Dokumentarfilm Sonita aus dem Jahr 2016 fängt einen Teil ihrer Geschichte ein.\nMit der Unterstützung der gemeinnützigen The Strongheart Group kam Sonita 2015 in die Vereinigten Staaten\, um ihren Traum von einer Ausbildung zu verwirklichen. Im Laufe weniger Jahre hat sich Sonita in Zusammenarbeit mit Strongheart von einem Teenager ohne formale Ausbildung zu einer Abiturientin entwickelt\, die als die führende Jugendfürsprecherin gegen Kinderehe weltweit anerkannt ist. Sonitas Botschaft erreicht die höchsten Ebenen der globalen Führung\, und ihre Geschichte und Visionen inspirieren junge Frauen auf der ganzen Welt\, gegen die Kinderehe zu kämpfen und sich für ihre Träume einzusetzen.“ 1 \n 
URL:https://www.lkj-lsa.de/kalender/kritischer-sonntag-sonita/
LOCATION:in:takt\, Breiter Weg 28\, Magdeburg\, 39104\, Deutschland
CATEGORIES:KIEZ 2.0
ATTACH;FMTTYPE=image/jpeg:https://www.lkj-lsa.de/wp-content/uploads/2019/06/64811848_850896795266661_4601143952479879168_o.jpg
ORGANIZER;CN=".lkj) Sachsen-Anhalt // Kiez 2.0":MAILTO:kiez@lkj-lsa.de
END:VEVENT
END:VCALENDAR