BEGIN:VCALENDAR
VERSION:2.0
PRODID:-//.lkj) Sachsen-Anhalt e.V. - ECPv6.15.20//NONSGML v1.0//EN
CALSCALE:GREGORIAN
METHOD:PUBLISH
X-ORIGINAL-URL:https://www.lkj-lsa.de
X-WR-CALDESC:Veranstaltungen für .lkj) Sachsen-Anhalt e.V.
REFRESH-INTERVAL;VALUE=DURATION:PT1H
X-Robots-Tag:noindex
X-PUBLISHED-TTL:PT1H
BEGIN:VTIMEZONE
TZID:Europe/Berlin
BEGIN:DAYLIGHT
TZOFFSETFROM:+0100
TZOFFSETTO:+0200
TZNAME:CEST
DTSTART:20180325T010000
END:DAYLIGHT
BEGIN:STANDARD
TZOFFSETFROM:+0200
TZOFFSETTO:+0100
TZNAME:CET
DTSTART:20181028T010000
END:STANDARD
BEGIN:DAYLIGHT
TZOFFSETFROM:+0100
TZOFFSETTO:+0200
TZNAME:CEST
DTSTART:20190331T010000
END:DAYLIGHT
BEGIN:STANDARD
TZOFFSETFROM:+0200
TZOFFSETTO:+0100
TZNAME:CET
DTSTART:20191027T010000
END:STANDARD
BEGIN:DAYLIGHT
TZOFFSETFROM:+0100
TZOFFSETTO:+0200
TZNAME:CEST
DTSTART:20200329T010000
END:DAYLIGHT
BEGIN:STANDARD
TZOFFSETFROM:+0200
TZOFFSETTO:+0100
TZNAME:CET
DTSTART:20201025T010000
END:STANDARD
END:VTIMEZONE
BEGIN:VEVENT
DTSTART;TZID=Europe/Berlin:20191029T090000
DTEND;TZID=Europe/Berlin:20191029T150000
DTSTAMP:20260419T155807
CREATED:20191017T072157Z
LAST-MODIFIED:20191017T073158Z
UID:13857-1572339600-1572361200@www.lkj-lsa.de
SUMMARY:Info-Tag "Kultur macht stark"
DESCRIPTION:Die .lkj) Sachsen-Anhalt e.V. lädt recht herzlich zum Info-Tag „Kultur macht stark. Bündnisse für Bildung“ ein. Die Veranstaltung wird am 29. Oktober 2019 in der Villa Böckelmann\, Lüttgen-Ottersleben 18a stattfinden. \n„Kultur macht stark“\, das Förderprogramm für außerschulische Projekte der Kulturellen Bildung\, wird bis 2022 mit einem Volumen von 250 Millionen Euro fortgesetzt. Seit 2018 fördern 29 vom Bundesministerium für Bildung und Forschung ausgewählte Programmpartner lokale Bündnisse für kulturelle Bildung in ganz Deutschland. \nLernen Sie auf der Veranstaltung das Förderprogramm und die Unterstützungsmöglichkeiten der Servicestelle Sachsen-Anhalt kennen. Außerdem erhalten Sie detaillierten Einblick in eine gelungene Projektpraxis und Antragstellung. \nProgrammpunkte:  \n\n9 Uhr: Input: Bestandteile guter Projektpraxis und Bündnisarbeit (Jerome C. Niemeyer)\n10 Uhr: Vorstellung Bundesförderprogramm „Kultur macht stark“ (Servicestelle Sachsen-Anhalt)\n11 Uhr: Einblick in die digitale Antragstellung von „Kultur macht stark“\n12  Uhr Mittagssnack inkl. Austausch\n13-15 Uhr: Beratung zu Projektideen und Erfahrungen in der Projektarbeit  \n\nZur Anmeldung nutzen Sie bitte den Link: https://lkjlsa.typeform.com/to/j2d6o4  Anmeldeschluss ist der 25. Oktober 2019. \nEin Teilnahmebeitrag wird nicht erhoben.
URL:https://www.lkj-lsa.de/kalender/info-tag-kultur-macht-stark/
LOCATION:Villa Böckelmann\, Lüttgen-Ottersleben 18a\, Magdeburg Ottersleben
ATTACH;FMTTYPE=image/png:https://www.lkj-lsa.de/wp-content/uploads/2019/10/BfB_Absendermarke_quer-01.png
END:VEVENT
END:VCALENDAR