BEGIN:VCALENDAR
VERSION:2.0
PRODID:-//.lkj) Sachsen-Anhalt e.V. - ECPv6.15.20//NONSGML v1.0//EN
CALSCALE:GREGORIAN
METHOD:PUBLISH
X-ORIGINAL-URL:https://www.lkj-lsa.de
X-WR-CALDESC:Veranstaltungen für .lkj) Sachsen-Anhalt e.V.
REFRESH-INTERVAL;VALUE=DURATION:PT1H
X-Robots-Tag:noindex
X-PUBLISHED-TTL:PT1H
BEGIN:VTIMEZONE
TZID:Europe/Berlin
BEGIN:DAYLIGHT
TZOFFSETFROM:+0100
TZOFFSETTO:+0200
TZNAME:CEST
DTSTART:20180325T010000
END:DAYLIGHT
BEGIN:STANDARD
TZOFFSETFROM:+0200
TZOFFSETTO:+0100
TZNAME:CET
DTSTART:20181028T010000
END:STANDARD
BEGIN:DAYLIGHT
TZOFFSETFROM:+0100
TZOFFSETTO:+0200
TZNAME:CEST
DTSTART:20190331T010000
END:DAYLIGHT
BEGIN:STANDARD
TZOFFSETFROM:+0200
TZOFFSETTO:+0100
TZNAME:CET
DTSTART:20191027T010000
END:STANDARD
BEGIN:DAYLIGHT
TZOFFSETFROM:+0100
TZOFFSETTO:+0200
TZNAME:CEST
DTSTART:20200329T010000
END:DAYLIGHT
BEGIN:STANDARD
TZOFFSETFROM:+0200
TZOFFSETTO:+0100
TZNAME:CET
DTSTART:20201025T010000
END:STANDARD
END:VTIMEZONE
BEGIN:VEVENT
DTSTART;VALUE=DATE:20191108
DTEND;VALUE=DATE:20191110
DTSTAMP:20260423T182702
CREATED:20191016T124603Z
LAST-MODIFIED:20191016T125129Z
UID:13847-1573171200-1573343999@www.lkj-lsa.de
SUMMARY:Flow\, Reim und Taktgefühl // Rap-Workshop
DESCRIPTION:Hip-Hop Workshop\nFlow\, Reim und Taktgefühl // Rap-Workshop mit Nifty MC\nFr. 8. & Sa. 9. November 2019 in Salbke\, Magdeburg \nSeit der Entstehung von Hip-Hop in den 70er Jahren in der Bronx hat sich die Hip- Hop-Kultur und vor allem Rap über die ganze Welt ausgebreitet und ist heute aus unserem Alltag nicht mehr wegzudenken. Rap ist seit jeher ein Mittel des Ausdrucks und des Empowerments gerade auch für diejenigen\, denen sonst eher nicht zugehört wird. Zum rappen braucht es keinen Proberaum\, keine Instrumente oder teure Tontechnik – nur eine ganze Menge Skills. Die Grundlagen dafür kannst du dir im Workshop draufziehen. Wir schauen uns an\, was es mit Flow\, 4/4-Takt\, reinen und unreinen Reimen eigentlich auf sich hat. Du wirst einen eigenen Text schreiben und nebenbei erfahren\, wie Rap überhaupt entstanden ist und was Hip-Hop mit Demokratie\, Rassismus und Sexismus zu tun hat. Wir wollen also auch die Rolle\, den Einfluss und die Verantwortung von Rap und Rapper*innen in der Gesellschaft analysieren\, diskutieren und einordnen. Die Praxis und der Raum zum Ausprobieren wird dabei nicht zu kurz kommen! \nDie Teilnahme ist kostenfrei. Für Getränke und Snacks ist gesorgt! \n  \nZeiten: \nFreitag\, 8.11.: 11:00 – 18:00 Uhr \nSamstag\, 9.11.: 10:00 – 13:30 Uhr \n  \nverbindliche Anmeldung und weitere Infos: \nSchreib uns eine E-Mail an kiez@lkj-lsa.de oder per WhatsApp +49 163 1329311 \n 
URL:https://www.lkj-lsa.de/kalender/flow-reim-und-taktgefuehl-rap-workshop/
LOCATION:Kieztreff Salbke\, Alt Salbke 33\, Magdeburg\, 39122
CATEGORIES:KIEZ 2.0
ORGANIZER;CN=".lkj) Sachsen-Anhalt // Kiez 2.0":MAILTO:kiez@lkj-lsa.de
END:VEVENT
BEGIN:VEVENT
DTSTART;TZID=Europe/Berlin:20191109T150000
DTEND;TZID=Europe/Berlin:20191109T150000
DTSTAMP:20260423T182702
CREATED:20190925T090542Z
LAST-MODIFIED:20191108T082047Z
UID:13768-1573311600-1573311600@www.lkj-lsa.de
SUMMARY:The Each One Teach One Jam 2019
DESCRIPTION:Am 9. November findet die Hip-Hop Veranstaltung „The Each One Teach One Jam“ im H2o Turmpark statt. Die Veranstaltung ist eine Kooperation zwischen dem Female Hip Hop Tresen Magdeburg\, dem Kultur Hafen e. V. und der .lkj) Sachsen-Anhalt. \nInteview von Guericke FM \n\nhttps://www.lkj-lsa.de/wp-content/uploads/2019/09/Interview-Each-One-Teach-One-Jam-Nadia.mp3\n  \n  \nDie vier Elemente des Hip-Hops (Dj’ing\, MC’ing\, Breaking und Writing) sollen für alle Altersgruppen auf der Veranstaltung greifbar gemacht werden. Von den ersten eigenen Schritten in Workshops\, bis hin zu den Idolen auf der Konzertbühne oder auch als Besucher*in der Veranstaltung wird hier die besondere Atmosphäre der Grenzen überwindenden und universellen Sprache des Hip-Hops spürbar. \nVon 15.00 bis 18.00 Uhr finden für Kinder und Jugendliche drei Workshops statt: Ein DJ-Vinyl-Workshop\, ein Break Dance Workshops und ein Graffiti-Workshop. Von 16.00 bis 17.00 Uhr wird die Aussichtsplattform des Wasserturms aufgeschlossen und ist frei zugänglich für alle Interessierten. Um 19.30 Uhr lädt DJ Taip zur Open Mic Session ein\, danach folgen verschiedene live acts: Hopfen & Styles (MD)\, Yetundey + Band (Leipzig/Berlin)\, Presslufthanna (Köln) + Sotah (Göttingen)\, Starrlight (Eindhoven/Niederlanden) + Snazzy Grrrlz (Weimar). \nThe Each One Teach Jam will nicht nur eine Hip-Hop Erfahrung für die ganze Familie bieten\, sondern auch darauf aufmerksam machen\, dass die deutsche Rap-Landschaft seit Jahrzehnten mit einem Phänomen konfrontiert ist\, das Stigma und Manko zugleich ist: die geringe Beteiligung von Frauen. Die Gründe dafür sind vielfältig\, die Mittel dagegen auch. „Sexistische und frauenfeindliche Inhalte sind im Hip-Hop weit verbreitet\, auf der Bühne dominieren Männer mit antiquierten Frauenbild und Macho Allüren“\, so Mitorganisatorin Nadia Boltes. Doch es gibt Künstler*innen\, die sich in diesem Umfeld selbstbewusst behaupten\, wie zum Beispiel die MC‘s Yetundey\, Starrlight und Presslufthanna\, die an diesem Abend live zu erleben sein werden. \nDer Eintritt ist frei\, über Spenden freut sich das Organisationsteam. \nAuf der Bühne wird ordentlich was los sein. \nab 15:00 Uhr Workshops\n–  DJ-Workshop – Umgang mit echten Vinyl (für Anfänger*innen)\n– Breakdance – Erste Steps und Moves\n– Graffiti-Workshop – Vermittlung von stilvollen Techniken und Kunst \nab 18:00 Uhr Tagging Battle \nab 19:30 Uhr Open Mic – Hip Hop Jam\nBühne für junge Hip Hop Acts und die\, die es werden wollen \nab 20.15 Uhr Live-Acts: \nHopfen & Styles\nYetundey\nPresslufthanna + Sotah\nStarrlight \n– Aftershow\n– Sotah\n– DJ TAIP \nSAVE THE DATE & hört euch warm! \nhttps://spoti.fi/2m5Nl3a \n______________________________________________\nWorkshops:\nDJ-Workshop\nHip Hop Dance\nGraffiti-Workshop \n(Die Workshop-Teilnahme ist auch ohne vorherige Anmeldung möglich) \n________________________________________________\nGefördert durch das Stadtplanungsamt der Landeshauptstadt Magdeburg. \nPräsentiert vom Kultur Hafen e.V.\, Female Hip Hop Tresen // Magdeburg\, Hip Hop in Magdeburg\, Magdeboogie & der .lkj) Sachsen-Anhalt e.V. \nDie Veranstaltung stellt den Auftakt einer langfristigen Kooperation dar.\nLeerstand\, Wegzug\, demografischer Wandel\, das sind nicht nur Probleme auf dem Land. Das Stadtplanungsamt der Landeshauptstadt Magdeburg und die .lkj) Sachsen-Anhalt e.V. wollen dem demographischen Wandel in Magdeburg Südost etwas Künstlerisches entgegensetzten. Bis Ende 2020 wird unter anderem ein Leerstand im Salbker Engpass kreativ bespielt. \n 
URL:https://www.lkj-lsa.de/kalender/the-each-one-teach-one-jam-2019/
LOCATION:H2O Turmpark e.V.\, Alt-Salbke 112\, Magdeburg\, 39122
CATEGORIES:Allgemein
ATTACH;FMTTYPE=image/jpeg:https://www.lkj-lsa.de/wp-content/uploads/2019/09/70787199_2591899700848799_8491416683703959552_o.jpg
ORGANIZER;CN=".lkj) Sachsen-Anhalt":MAILTO:info@lkj-lsa.de
END:VEVENT
END:VCALENDAR