BEGIN:VCALENDAR
VERSION:2.0
PRODID:-//.lkj) Sachsen-Anhalt e.V. - ECPv6.15.20//NONSGML v1.0//EN
CALSCALE:GREGORIAN
METHOD:PUBLISH
X-ORIGINAL-URL:https://www.lkj-lsa.de
X-WR-CALDESC:Veranstaltungen für .lkj) Sachsen-Anhalt e.V.
REFRESH-INTERVAL;VALUE=DURATION:PT1H
X-Robots-Tag:noindex
X-PUBLISHED-TTL:PT1H
BEGIN:VTIMEZONE
TZID:Europe/Berlin
BEGIN:DAYLIGHT
TZOFFSETFROM:+0100
TZOFFSETTO:+0200
TZNAME:CEST
DTSTART:20180325T010000
END:DAYLIGHT
BEGIN:STANDARD
TZOFFSETFROM:+0200
TZOFFSETTO:+0100
TZNAME:CET
DTSTART:20181028T010000
END:STANDARD
BEGIN:DAYLIGHT
TZOFFSETFROM:+0100
TZOFFSETTO:+0200
TZNAME:CEST
DTSTART:20190331T010000
END:DAYLIGHT
BEGIN:STANDARD
TZOFFSETFROM:+0200
TZOFFSETTO:+0100
TZNAME:CET
DTSTART:20191027T010000
END:STANDARD
BEGIN:DAYLIGHT
TZOFFSETFROM:+0100
TZOFFSETTO:+0200
TZNAME:CEST
DTSTART:20200329T010000
END:DAYLIGHT
BEGIN:STANDARD
TZOFFSETFROM:+0200
TZOFFSETTO:+0100
TZNAME:CET
DTSTART:20201025T010000
END:STANDARD
END:VTIMEZONE
BEGIN:VEVENT
DTSTART;VALUE=DATE:20191121
DTEND;VALUE=DATE:20191122
DTSTAMP:20260421T121056
CREATED:20191101T110658Z
LAST-MODIFIED:20191120T082304Z
UID:13935-1574294400-1574380799@www.lkj-lsa.de
SUMMARY:Utopia Lab
DESCRIPTION:»Der beste Weg\, die Zukunft vorauszusagen\, ist\, sie zu gestalten. « (Willy Brandt). In diesem Sinne werden wir zu Zukunftsexpert*innen. Wir erforschen Zukunftstheorien höchst wissenschaftlich und gestalten höchst spekulativ eigene Zukunftsbilder. Gemeinsam diskutieren wir und lernen uns wissenschaftlich zu verteidigen und am Ende des Workshoptages haben wir gemeinsam ein Kompendium mit unseren Thesen und Bildern gefüllt und der Nachwelt verfügbar gemacht. \n 
URL:https://www.lkj-lsa.de/kalender/utopia-lab/
LOCATION:Magdeburg
CATEGORIES:Freiwilligendienste in Kultur und Bildung
END:VEVENT
BEGIN:VEVENT
DTSTART;TZID=Europe/Berlin:20191121T153000
DTEND;TZID=Europe/Berlin:20191121T210000
DTSTAMP:20260421T121056
CREATED:20191112T132159Z
LAST-MODIFIED:20191120T031037Z
UID:13999-1574350200-1574370000@www.lkj-lsa.de
SUMMARY:Herbstsalon "Heimat.Land.Jugendkultur"
DESCRIPTION:Die .lkj) Sachsen-Anhalt e.V. lädt ein nach Stendal!  \nHeimat bedeutet für unser Handeln in interkultureller Bildung und Soziokultur nicht begrenztes Territorium und kein Vehikel der genealogischen Exklusion\, sondern: ein Hoffnungsort der Teilhabe\, eine Aufgabe\, eine Vision. In der Nähe neuer Nachbar*innen\, in Jugendkulturen\, im ländlichen Raum geht es darum\, dass Menschen sich miteinander beheimaten. Jugendliche\, Kulturaktive und Bildungskräfte verorten diese Ansätze in Stendal auf einem Herbst-Salon. Projekte\, Ideen\, Bedarfe und Probleme der (trans)kulturellen Bildung in ländlichen Räumen\, neue Ansätze dafür und Erfolge der letzten Jahre möchten wir vorstellen\, diskutieren\, illustrieren und feiern. \n \n \nKleine Markthalle Stendal 16.00 – 21.00 Uhr\n \nIntro 16.00 – 16.30 Uhr \nMusik-Intro: Enver Ibrahimogli & Mustafa Mustafa \nWillkommen! Marion Zosel-Moor\, Vorstandsmitglied der FWA SDL: „Die Kleine Markthalle\, ein lebendiger Ort im ehemaligen Leerstand als Kooperationsprodukt von Freiwilligen-Agentur Stendal und Dehnungsfuge“ \n„Auf dem Lande alles dicht (?)“ Input von Torsten Sowada\, .lkj-Projekt Dehnungsfuge und  Dr. Mieste Hotopp-Riecke\, Projekt „WIR. Heimat.Land.Jugendkulturen“ sowie Klaus Farin Bundesprojekt „WIR“ / Respekt! Die Stifung\, Berlin. \nModul I 16.30 – 17.30 Uhr \nBest-Practice-Schaufenster aus Projekten in der Altmark \n\nEin Dorf spielt Geschichte: „Bittkau macht Theater. Ein Sommernachtstraum am Elbkilometer 372“. Ein Kurzfilm von Hovhannes Martirosyan über das Open-Air-Theaterprojekt in Bittkau an der Elbe\, basierend auf einer Theaterrevue mit über 80 Beteiligten (Ergebnis einer Kooperation aus den Projekten „Dehnungsfuge“ und „WIR. Heimat.Land.Jugendkultur“ zusammen mit dem Jugendclub Bittkau und dem Heimat- u. Schifferverein Bittkau)\, vorgesetellt von Astrid Triebe\, Jugendclub Bittkau.\n„Geisterstadt\, ich umarme Dich“ Theaterprojekt der Dehnungsfuge Sachsen-Anhalt\, ausgezeichnet mit dem Integrationspreis 2017. Vorgestellt von Eva Vogel (DokFilm + Protagonisten live)\n„In the Middle of Nüscht“\, Crossmediaprojekt in der Altmark\, vorgestellt wird der Weg zu Buch und Blog durch Herausgeberin & Autorin Sibylle Sperling\, Stendal\n„ Politiker im Interview“ Vorstellung eines Schüler*innen-Projekts der Jeetze-GesamtSchule Salzwedel.\n\nMusik: Enver Ibrahimogli & Mustafa Mustafa: Kurdische und krimtatarische Musik; Enver Ibrahimogli\, Saxophon\, ist ausgebildeter Musiker von der Halbinsel Krim. Mustafa Mustafa aus dem kurdischen Teil Syriens spielt die Saz. Beide Musiker sind aktiv seit zwei Jahren in .lkj)-Projekten. \nBreak  17:30 – 18.00    Kaffee-Pause \nModul II  18:00 – 19.00 \nPodiumsdiskussion: „Hier geblieben!“  \nPerspektiven aus Sachsen-Anhalt und darüber hinaus:Moderation: Barbara Hallmann\, Autorin/Journalistin\, Havelberg; Benjamin Ollendorf\, KinderStärken e.V. / An-Institut der Hochschule Magdeburg-Stendal; Klaus Farin\, RESPEKT! Die Stiftung /Bundesweiter Träger des Projektes „WIR.Heimat.Land.Jugendkultur“; Jens Winter\, Lehrer\, Imker und stellvetr. Schulleiter an der Jeetze-Schule Salzwedel; Corinna Köbele\, Vorstandsvorsitzende Künstlerstadt Kalbe e.V.\, Kalbe/Milde. \nBreak II  19:00 – 19.30          Kaffee und Stütz-Stulle \nModul III 19:30 – 20:15 \nFilm & Wort Jugend-(Sub-)Kulturen im ländlichen Raum \nFilmgespräch zwischen dem  Autoren/Filmemacher Alexander Kühne (Lugau City Lights – Ein DDR-Dorf schreibt Popgeschichte“ mdr/arte) und Barbara Hallmann\, Autorin/Journalistin\, Havelberg. \nAb 20.15  So is(s)t die Altmark: Brennessel-Muffins & Linsen-Bulgur (Ausklang bei Getränk und Imbiss) \n \nTag 2  //  22. November 2019: Hochschule Magdeburg-Stendal 10.00 – 17.00 Uhr  \n„Heimat.Land.Jugendkultur“ Geschlossenes nicht öffentliches Fach-Colloquium. Ziel der internen Fachtagung ist es\, die Befragungsergebnisse aus dem WIR-Forschungsprojekt „Heimat.Land.Jugendkultur“ vorzustellen und mit Ergebnissen anderer Studien abzugleichen. Eröffnet werden sollen so Einblicke in die Lebenslagen und -situationen von Jugendlichen in Kleinstädten und ländlichen Regionen Deutschlands. Programm-verantwortlich: Prof. Dr. Günter Mey (Hochschule Magdeburg-Stendal). (Presse-Akkreditierung unter: dehnungsfuge@gmx.de) \nTagungsort: Hochschule Magdeburg-Stendal\, Osterburger Str. 25; D-39576 Hansestadt Stendal\, Haus 2\, Raum 0.09
URL:https://www.lkj-lsa.de/kalender/herbstsalon/
LOCATION:Sachsen-Anhalt
CATEGORIES:Dehnungsfuge
ATTACH;FMTTYPE=image/jpeg:https://www.lkj-lsa.de/wp-content/uploads/2019/11/Herbstsalon-header-1.jpg
END:VEVENT
END:VCALENDAR