BEGIN:VCALENDAR
VERSION:2.0
PRODID:-//.lkj) Sachsen-Anhalt e.V. - ECPv6.15.20//NONSGML v1.0//EN
CALSCALE:GREGORIAN
METHOD:PUBLISH
X-WR-CALNAME:.lkj) Sachsen-Anhalt e.V.
X-ORIGINAL-URL:https://www.lkj-lsa.de
X-WR-CALDESC:Veranstaltungen für .lkj) Sachsen-Anhalt e.V.
REFRESH-INTERVAL;VALUE=DURATION:PT1H
X-Robots-Tag:noindex
X-PUBLISHED-TTL:PT1H
BEGIN:VTIMEZONE
TZID:Europe/Berlin
BEGIN:DAYLIGHT
TZOFFSETFROM:+0100
TZOFFSETTO:+0200
TZNAME:CEST
DTSTART:20200329T010000
END:DAYLIGHT
BEGIN:STANDARD
TZOFFSETFROM:+0200
TZOFFSETTO:+0100
TZNAME:CET
DTSTART:20201025T010000
END:STANDARD
BEGIN:DAYLIGHT
TZOFFSETFROM:+0100
TZOFFSETTO:+0200
TZNAME:CEST
DTSTART:20210328T010000
END:DAYLIGHT
BEGIN:STANDARD
TZOFFSETFROM:+0200
TZOFFSETTO:+0100
TZNAME:CET
DTSTART:20211031T010000
END:STANDARD
BEGIN:DAYLIGHT
TZOFFSETFROM:+0100
TZOFFSETTO:+0200
TZNAME:CEST
DTSTART:20220327T010000
END:DAYLIGHT
BEGIN:STANDARD
TZOFFSETFROM:+0200
TZOFFSETTO:+0100
TZNAME:CET
DTSTART:20221030T010000
END:STANDARD
END:VTIMEZONE
BEGIN:VEVENT
DTSTART;TZID=Europe/Berlin:20211113T140000
DTEND;TZID=Europe/Berlin:20211114T150000
DTSTAMP:20260423T153819
CREATED:20211108T155750Z
LAST-MODIFIED:20211108T155750Z
UID:17172-1636812000-1636902000@www.lkj-lsa.de
SUMMARY:Online-Grundlagenseminar: „Kolonialismus und Klimawandel“
DESCRIPTION:Die Folgen des Klimawandels und die Umweltverschmutzung durch Ressourcenabbau verstärken globale Ungerechtigkeiten und strukturelle Machtverhältnisse. Dabei müssen vorallem Menschen im Globalen Norden verstehen\, das die Klimakrise in der Zeit des Kolonialismus entstanden ist und das Menschen im Globalen Süden nicht erst seit kurzem von den Folgen des Klimwandels betroffen sind. Die Unterdrückung und Ausbeutung von Mensch und Natur basiert auf kolonialer Praxis und hat ebenfalls eine Kontinuität in Nachhaltigkeitsprozessen und Grünem Kapitalismus.\nGemeinsam wollen wir uns den Frage widmen: Kämpfen wir wirklich alle denselben Kampf gegen den Klimawandel? Und wie können wir soziale Gerechtigkeit und Klimagerechtigkeit zusammen denken?\nWir werden mit euch die Klimakrise und die deutsche Klimabewegung betrachten und anhand von Reflexionsprozessen die eigenen Privilegien sichtbar machen. Wie können wir ansozialisierte Narrative erkennen\, abbauen und solidarisch handeln?\n\nSeminarinhalte:\n+ Verbindung von kolonialen Kontinuitäten und Klimawandel\n+ Klimagerechtigkeit\n+ Widerstandskämpfe\n+ Analyse von Nachhaltigkeitsprozessen\n+ Betrachtung der Klimabewegung in Deutschland\n+ Reflektionsprozesse der eigenen Positionierung\n+ Allyship\n+ Handlungsperspektiven\nEin zweiteiliges Seminar\nDieses Angebot ist ein Zweiteiliges: Das hier ausgeschriebene Seminar ist das Einführungsseminar.\nZu diesem Seminar findet vom 18. bis 19. Juni 2022 ein Aufbauseminar statt. Eine Anmeldung zu unserem grundständigen Seminar in diesem Jahr verpflichtet jedoch nicht zur Teilnahme am Aufbauseminar im nächsten Jahr.\nIhr habt aber auch jetzt schon die Möglichkeit euch für beide Termine anzumelden.\n\n\nReferent*innen:\nAngela Asomah und Lea Dehning sind Aktivist*innen und Bildungsreferent*innen. Gemeinsam geben sie Workshops und Seminare zu Klimagerechtigkeit\, Intersektionalität sowie Empowerment bzw. Critical Whiteness und arbeiten bei der BUNDjugend.\nSeminarzeiten:\n13. November: 14-19 Uhr\n14. November: 9-15 Uhr\n\n\nOrt:\nDie Veranstaltung findet online statt.\n\nAnmeldung:\nPer Mail an: sachsen-anhalt@netzwerk-courage.de\nBitte melde dich mit folgenden Informationen an: Name\, Vorname\, vollständige Adresse\, E-Mail-Adresse.\nNach Deiner Anmeldung bekommst Du von uns per E-Mail eine Anmeldebestätigung und alle weiteren Informationen.\nDen Einladungslink zum Raum senden wir euch kurz vor der Veranstaltung per Mail zu.\n\n\nTeilnahmebeitrag:\n18\,00 Euro\nWenn du aus finanziellen Gründen nicht in der Lage bist den Teilnahmebeitrag zu zahlen\, wende dich bitte vertrauensvoll an uns. Eine Reduktion oder das Aussetzen des Teilnahmebeitrags ist möglich.\nNetzwerk für Demokratie und Courage\nIBAN: DE94 8105 3272 0641 0569 82\nBIC: NOLADE 21MDG\n\nBetreff: Kolonialismus2021 + Dein Name\n\n\nDie Fortbildung ist eine Kooperationsveranstaltung zwischen:\nNetzwerk für Demokratie und Courage Sachsen-Anhalt e.V.\nc/o Landesjugendwerk der AWO Sachsen-Anhalt\nSchönebecker Straße 82-84\n39104 Magdeburg\nTel.: 0391 – 52093 -731 /-184\nsachsen-anhalt@netzwerk-courage.de\nhttps://www.netzwerk-courage.de/sachsen-anhalt\n\nund\n\n.lkj) – Landesvereinigung kulturelle Kinder- und Jugendbildung Sachsen-Anhalt e. V.\nBrandenburger Straße 9\n39104 Magdeburg\nTel.: 0391 – 2445172\nwww.lkj-lsa.de\n\n\nDiese Veranstaltung ist gefördert vom:\nBundesministerium für Familie\, Senioren\, Frauen und Jugend im Rahmen des Bundesförderprogramms „Demokratie leben!“ und vom Ministeriums für Arbeit\, Soziales und Integration des Landes Sachsen-Anhalt im Rahmen des Landesprogramms „#wirsinddasland Demomkratie.Vielfalt.Weltoffenheit.\n 
URL:https://www.lkj-lsa.de/kalender/online-grundlagenseminar-kolonialismus-und-klimawandel/
LOCATION:Sachsen-Anhalt
CATEGORIES:Jugendbildung
ATTACH;FMTTYPE=image/png:https://www.lkj-lsa.de/wp-content/uploads/2021/11/WS_Kolonialismus_Sachsen-Anhalt_284x190.png
ORGANIZER;CN="Perry Lukaszczyk / Jugendbildungsreferent":MAILTO:perry.lukaszczyk@lkj-lsa.de
END:VEVENT
END:VCALENDAR