BEGIN:VCALENDAR
VERSION:2.0
PRODID:-//.lkj) Sachsen-Anhalt e.V. - ECPv6.15.20//NONSGML v1.0//EN
CALSCALE:GREGORIAN
METHOD:PUBLISH
X-ORIGINAL-URL:https://www.lkj-lsa.de
X-WR-CALDESC:Veranstaltungen für .lkj) Sachsen-Anhalt e.V.
REFRESH-INTERVAL;VALUE=DURATION:PT1H
X-Robots-Tag:noindex
X-PUBLISHED-TTL:PT1H
BEGIN:VTIMEZONE
TZID:Europe/Berlin
BEGIN:DAYLIGHT
TZOFFSETFROM:+0100
TZOFFSETTO:+0200
TZNAME:CEST
DTSTART:20200329T010000
END:DAYLIGHT
BEGIN:STANDARD
TZOFFSETFROM:+0200
TZOFFSETTO:+0100
TZNAME:CET
DTSTART:20201025T010000
END:STANDARD
BEGIN:DAYLIGHT
TZOFFSETFROM:+0100
TZOFFSETTO:+0200
TZNAME:CEST
DTSTART:20210328T010000
END:DAYLIGHT
BEGIN:STANDARD
TZOFFSETFROM:+0200
TZOFFSETTO:+0100
TZNAME:CET
DTSTART:20211031T010000
END:STANDARD
BEGIN:DAYLIGHT
TZOFFSETFROM:+0100
TZOFFSETTO:+0200
TZNAME:CEST
DTSTART:20220327T010000
END:DAYLIGHT
BEGIN:STANDARD
TZOFFSETFROM:+0200
TZOFFSETTO:+0100
TZNAME:CET
DTSTART:20221030T010000
END:STANDARD
END:VTIMEZONE
BEGIN:VEVENT
DTSTART;VALUE=DATE:20211206
DTEND;VALUE=DATE:20211209
DTSTAMP:20260423T210901
CREATED:20210908T133452Z
LAST-MODIFIED:20210908T133452Z
UID:16744-1638748800-1639007999@www.lkj-lsa.de
SUMMARY:Lieb doch wie du willst!
DESCRIPTION:Gender\, Queer\, Asexuell\, Inter – all diese Worte und noch viele mehr begegnen uns (zum Glück) immer häufiger im Alltag und den sozialen Medien. \nDoch wo verorte ich mich dort eigentlich? Weiß ich bereits alles über meine eigene Geschlechterrolle? Welche Identitäten gibt es denn noch\, außer den mir bekannten und wie geht es den Menschen damit in der heutigen Zeit? Diesen Fragen und noch vielen anderen Themen wollen wir an den drei Bildungstagen mit euch nachgehen. \nWir werden uns mit Geschlechtsidentitäten\, Sexualität und Liebe auseinandersetzen. Außerdem wird uns eine tolle Person besuchen\, welche durch ihre eigenen Erfahrungen all eure Fragen beantworten wird. \nDie Tage sollen keine reine Lehrveranstaltung werden\, sondern ein lebendiger Austausch zwischen uns\, bei welchem ihr euch immer wieder kreativ zu den Themen austoben und ausprobieren könnt. Getreu dem Motto: »Sich selbst feiern\, statt rumzueiern!«
URL:https://www.lkj-lsa.de/kalender/lieb-doch-wie-du-willst/
LOCATION:digital
CATEGORIES:Freiwilligendienste in Kultur und Bildung
ATTACH;FMTTYPE=image/jpeg:https://www.lkj-lsa.de/wp-content/uploads/2021/09/debby-hudson-jcc8sxK2Adw-unsplash.jpg
ORGANIZER;CN=".lkj) Sachsen-Anhalt e.V. // FWD Kultur und Bildung":MAILTO:fsj@lkj-lsa.de
END:VEVENT
END:VCALENDAR