BEGIN:VCALENDAR
VERSION:2.0
PRODID:-//.lkj) Sachsen-Anhalt e.V. - ECPv6.15.20//NONSGML v1.0//EN
CALSCALE:GREGORIAN
METHOD:PUBLISH
X-WR-CALNAME:.lkj) Sachsen-Anhalt e.V.
X-ORIGINAL-URL:https://www.lkj-lsa.de
X-WR-CALDESC:Veranstaltungen für .lkj) Sachsen-Anhalt e.V.
REFRESH-INTERVAL;VALUE=DURATION:PT1H
X-Robots-Tag:noindex
X-PUBLISHED-TTL:PT1H
BEGIN:VTIMEZONE
TZID:Europe/Berlin
BEGIN:DAYLIGHT
TZOFFSETFROM:+0100
TZOFFSETTO:+0200
TZNAME:CEST
DTSTART:20240331T010000
END:DAYLIGHT
BEGIN:STANDARD
TZOFFSETFROM:+0200
TZOFFSETTO:+0100
TZNAME:CET
DTSTART:20241027T010000
END:STANDARD
BEGIN:DAYLIGHT
TZOFFSETFROM:+0100
TZOFFSETTO:+0200
TZNAME:CEST
DTSTART:20250330T010000
END:DAYLIGHT
BEGIN:STANDARD
TZOFFSETFROM:+0200
TZOFFSETTO:+0100
TZNAME:CET
DTSTART:20251026T010000
END:STANDARD
BEGIN:DAYLIGHT
TZOFFSETFROM:+0100
TZOFFSETTO:+0200
TZNAME:CEST
DTSTART:20260329T010000
END:DAYLIGHT
BEGIN:STANDARD
TZOFFSETFROM:+0200
TZOFFSETTO:+0100
TZNAME:CET
DTSTART:20261025T010000
END:STANDARD
END:VTIMEZONE
BEGIN:VEVENT
DTSTART;TZID=Europe/Berlin:20250509T100000
DTEND;TZID=Europe/Berlin:20250509T170000
DTSTAMP:20260420T023503
CREATED:20250408T073218Z
LAST-MODIFIED:20250408T073732Z
UID:24208-1746784800-1746810000@www.lkj-lsa.de
SUMMARY:Workshop: Actionbound
DESCRIPTION:Veranstaltungszeitraum:\nFreitag\, 09.05.2025 von 10:00 Uhr bis 17:00 Uhr \n\nInhalt:\nMit Actionbound können bereits Kinder ab dem Grundschulalter spannende\, unterhaltsame und lehrreiche multimediale Schnitzeljagden gestalten und ihre Umgebung\, bestimmte Orte oder Wege auf völlig neue Weise entdecken. Es lässt sich nicht nur durch interaktive Quizfragen und Aufgaben\, sondern auch durch Fotos und Videos bereichern. Um nachhaltige Erlebnisse und positive Lernprozesse zu fördern\, \n\nWeitere Informationen:\nDie App bietet zahlreiche spielerische Elemente wie GPS-Standorte\, QR-Codes oder Mini-Games. \nAnmeldung  \nVeranstaltungsort:\nOffener Kanal Magdeburg e. V.\nOlvenstedter Straße 10\, 39108 Magdeburg
URL:https://www.lkj-lsa.de/kalender/workshop-actionbound/
LOCATION:Offener Kanal Magdeburg e. V.\, Olvenstedter Straße 10\, Magdeburg\, 39108
CATEGORIES:Servicestelle für digitale kulturelle Bildung
ATTACH;FMTTYPE=image/jpeg:https://www.lkj-lsa.de/wp-content/uploads/2019/04/lkj_reportage-©-Giovanna-Gahrns-9-scaled.jpg
ORGANIZER;CN="Servicestelle f%C3%BCr digitale kulturelle Bildung":MAILTO:nadia.boltes@lkj-lsa.de
END:VEVENT
END:VCALENDAR