BEGIN:VCALENDAR
VERSION:2.0
PRODID:-//.lkj) Sachsen-Anhalt e.V. - ECPv6.15.20//NONSGML v1.0//EN
CALSCALE:GREGORIAN
METHOD:PUBLISH
X-WR-CALNAME:.lkj) Sachsen-Anhalt e.V.
X-ORIGINAL-URL:https://www.lkj-lsa.de
X-WR-CALDESC:Veranstaltungen für .lkj) Sachsen-Anhalt e.V.
REFRESH-INTERVAL;VALUE=DURATION:PT1H
X-Robots-Tag:noindex
X-PUBLISHED-TTL:PT1H
BEGIN:VTIMEZONE
TZID:Europe/Berlin
BEGIN:DAYLIGHT
TZOFFSETFROM:+0100
TZOFFSETTO:+0200
TZNAME:CEST
DTSTART:20240331T010000
END:DAYLIGHT
BEGIN:STANDARD
TZOFFSETFROM:+0200
TZOFFSETTO:+0100
TZNAME:CET
DTSTART:20241027T010000
END:STANDARD
BEGIN:DAYLIGHT
TZOFFSETFROM:+0100
TZOFFSETTO:+0200
TZNAME:CEST
DTSTART:20250330T010000
END:DAYLIGHT
BEGIN:STANDARD
TZOFFSETFROM:+0200
TZOFFSETTO:+0100
TZNAME:CET
DTSTART:20251026T010000
END:STANDARD
BEGIN:DAYLIGHT
TZOFFSETFROM:+0100
TZOFFSETTO:+0200
TZNAME:CEST
DTSTART:20260329T010000
END:DAYLIGHT
BEGIN:STANDARD
TZOFFSETFROM:+0200
TZOFFSETTO:+0100
TZNAME:CET
DTSTART:20261025T010000
END:STANDARD
END:VTIMEZONE
BEGIN:VEVENT
DTSTART;TZID=Europe/Berlin:20250526T190000
DTEND;TZID=Europe/Berlin:20250526T210000
DTSTAMP:20260420T040521
CREATED:20250521T094242Z
LAST-MODIFIED:20250521T094616Z
UID:24390-1748286000-1748293200@www.lkj-lsa.de
SUMMARY:"Was bleibt?" Film & Gespräch
DESCRIPTION:Das Auslandsjahr in meinem Leben“ auf Deutschlandtournee – Nächster Halt: Moritzhof Magdeburg\nDer Dokumentarfilm „Was bleibt? Das Auslandsjahr in meinem Leben“ von Christian Weinert und Ferdinand Carrière geht auf Tournee durch Deutschland und macht am Montag\, den 26. Mai 2025 um 19:00 Uhr Halt im Moritzhof Magdeburg. Der Film begleitet sieben junge Menschen\, die sich vor einigen Jahren entschieden haben\, ihre gewohnte Umgebung zu verlassen\, um einen weltwärts-Freiwilligendienst im Ausland zu absolvieren. Auch drei Freiwillige aus Tansania und Kamerun\, die für ein Jahr in Deutschland tätig waren\, erzählen ihre Geschichte. \nDer Film wirft eindrucksvolle Fragen auf: Wie wirkt sich ein Jahr in der Ferne auf das Leben danach aus?  Die ehemaligen Freiwilligen werden Jahre nach ihrem Einsatz mit Bildern und Aussagen aus dieser prägenden Zeit konfrontiert und reflektieren über ihre Erfahrungen und die langfristigen Auswirkungen auf ihr Leben. \nIm Anschluss an die Filmvorführung findet ein moderiertes Filmgespräch statt. Neben dem Regisseur Christian Weinert stehen auch ehemalige Süd-Nord- und Nord-Süd-Freiwillige dem Publikum für Fragen zur Verfügung. Die Diskussion wird von Nadia Boltes von der .lkj) Sachsen-Anhalt moderiert\, die selbst 2009- 2010 einen weltwärts Freiwilligendienst in Südafrika gemacht und den Freiwilligendienst einige Jahre in Sachsen-Anhalt koordiniert hat. \nDie Veranstaltung wird gefördert von Engagement Global gGmbH mit Mitteln des BMZ und ist für Interessierte kostenfrei.\nZur Bewerbung der Veranstaltung stehen Bildmaterial und digitale Flyer zur Verfügung. \nWeitere Informationen: \n\nTrailer zum Film: Vimeo-Link\nVeranstaltungshinweis auf Facebook\nVeranstaltungshinweis auf Instagram\n\n  \nKontakt für Rückfragen:\nChristian Weinert\nE-Mail: post@globale-perspektiven.com\nTelefon: 0176 / 615 54 88 5
URL:https://www.lkj-lsa.de/kalender/was-bleibt-film-gespraech/
LOCATION:Moritzhof Magdeburg\, Moritzpl. 1\, Magdeburg\, 39124 \, Deutschland
CATEGORIES:Allgemein
ATTACH;FMTTYPE=image/jpeg:https://www.lkj-lsa.de/wp-content/uploads/2019/04/weltwärts_Ausreiseseminar17_GruppebeiEinheit_Nadia-Boltes.jpg
ORGANIZER;CN="Artist e. V.":MAILTO:info@moritzhof-magdeburg.de
END:VEVENT
END:VCALENDAR