BEGIN:VCALENDAR
VERSION:2.0
PRODID:-//.lkj) Sachsen-Anhalt e.V. - ECPv6.15.20//NONSGML v1.0//EN
CALSCALE:GREGORIAN
METHOD:PUBLISH
X-ORIGINAL-URL:https://www.lkj-lsa.de
X-WR-CALDESC:Veranstaltungen für .lkj) Sachsen-Anhalt e.V.
REFRESH-INTERVAL;VALUE=DURATION:PT1H
X-Robots-Tag:noindex
X-PUBLISHED-TTL:PT1H
BEGIN:VTIMEZONE
TZID:Europe/Berlin
BEGIN:DAYLIGHT
TZOFFSETFROM:+0100
TZOFFSETTO:+0200
TZNAME:CEST
DTSTART:20240331T010000
END:DAYLIGHT
BEGIN:STANDARD
TZOFFSETFROM:+0200
TZOFFSETTO:+0100
TZNAME:CET
DTSTART:20241027T010000
END:STANDARD
BEGIN:DAYLIGHT
TZOFFSETFROM:+0100
TZOFFSETTO:+0200
TZNAME:CEST
DTSTART:20250330T010000
END:DAYLIGHT
BEGIN:STANDARD
TZOFFSETFROM:+0200
TZOFFSETTO:+0100
TZNAME:CET
DTSTART:20251026T010000
END:STANDARD
BEGIN:DAYLIGHT
TZOFFSETFROM:+0100
TZOFFSETTO:+0200
TZNAME:CEST
DTSTART:20260329T010000
END:DAYLIGHT
BEGIN:STANDARD
TZOFFSETFROM:+0200
TZOFFSETTO:+0100
TZNAME:CET
DTSTART:20261025T010000
END:STANDARD
END:VTIMEZONE
BEGIN:VEVENT
DTSTART;VALUE=DATE:20250613
DTEND;VALUE=DATE:20250616
DTSTAMP:20260420T053842
CREATED:20250430T062258Z
LAST-MODIFIED:20250430T062258Z
UID:24286-1749772800-1750031999@www.lkj-lsa.de
SUMMARY:Künstliche Intelligenz zum Anfassen und Mitmachen an 3 Tagen
DESCRIPTION:KI im Einklang mit Musik\, sowie Kunst? Wie soll das gehen? Sind die Kultur und die Ausdrucksrichtungen in Musik und Kunst nicht etwas Subjektives? Wie kann Künstliche Intelligenz bei diesem kreativen Prozess eingesetzt werden oder wo stößt sie an Grenzen ?Diesen Fragen widmet sich das Festival FELICIA und möchte hierbei sowohl die künstlerische Perspektive als auch die technische und wissenschaftliche Perspektive vereinen und die Künstler*innen und Wissenschaftler:innen zusammenbringen. \n\n\n2023 feierte das Felicia Festival seine erfolgreiche Premiere mit vielen Mitmach-Workshops\, einem Hörspiel\, Konzerten und einem Live-Hörspiel und konnte dann 2024 mit einem noch größeren Portfolio fortgesetzt werden\, das seinen Fokus erweitert hatte um Bildende Kunst und noch umfangreichere Experimentier­stationen. \n\n\nIm gesamten Gesellschaftshaus und erstmals auch open air im Klosterbergegarten und in den Gruson Gewächs­häusern findet nun 2025 FELICIA in Kooperation mit den Studierendentagen und der Langen Nacht der Wissenschaft statt mit Kunst­performances\, Musikstationen zum Selbererkunden und Erfahren\, Workshops\, einer Hörspiellounge\, Konzerten\, Musikfloors zum Genießen und Tanzen sowie einem Audiowalk. \n\n\nFelicia ist ein echtes Gemeinschafts­werk der Otto-von-Guericke Universität Magdeburg\, der Landeshauptstadt Magdeburg\, des Gesellschafts­hauses Magdeburg\, des Magdeburger Musikverein und des Institutes für Künstliche Intelligenz und Bühne. Einzelene Workshops für Kinder und Jugendliche werden von der .lkj) Sachsen-Anhalt unterstützt. \n\n\nOrganisiert wird das Festival vom Fachgebiet Mobile Dialogsysteme unter der Leitung von Jun.-Prof. Dr. Ingo Siegert an der Otto-von-Guericke-Universität Magdeburg und dem Institut für Künstliche Intelligenz und Bühne in Kooperation mit der Stadt Magdeburg.
URL:https://www.lkj-lsa.de/kalender/kuenstliche-intelligenz-zum-anfassen-und-mitmachen-an-3-tagen/
LOCATION:Gesellschaftshaus Magdeburg\, 	Schönebecker Straße 129\, Magdeburg\, Sachsen-Anhalt\, 39104\, Deutschland
CATEGORIES:Servicestelle für digitale kulturelle Bildung
ATTACH;FMTTYPE=image/jpeg:https://www.lkj-lsa.de/wp-content/uploads/2025/04/250411-Homepage-Header-scaled.jpg
ORGANIZER;CN=".lkj) Sachsen-Anhalt // %C2%BBServicestelle f%C3%BCr digitale Kulturelle Bildung%C2%AB":MAILTO:nadia.boltes@lkj-lsa.de
END:VEVENT
END:VCALENDAR