BEGIN:VCALENDAR
VERSION:2.0
PRODID:-//.lkj) Sachsen-Anhalt e.V. - ECPv6.15.20//NONSGML v1.0//EN
CALSCALE:GREGORIAN
METHOD:PUBLISH
X-ORIGINAL-URL:https://www.lkj-lsa.de
X-WR-CALDESC:Veranstaltungen für .lkj) Sachsen-Anhalt e.V.
REFRESH-INTERVAL;VALUE=DURATION:PT1H
X-Robots-Tag:noindex
X-PUBLISHED-TTL:PT1H
BEGIN:VTIMEZONE
TZID:Europe/Berlin
BEGIN:DAYLIGHT
TZOFFSETFROM:+0100
TZOFFSETTO:+0200
TZNAME:CEST
DTSTART:20240331T010000
END:DAYLIGHT
BEGIN:STANDARD
TZOFFSETFROM:+0200
TZOFFSETTO:+0100
TZNAME:CET
DTSTART:20241027T010000
END:STANDARD
BEGIN:DAYLIGHT
TZOFFSETFROM:+0100
TZOFFSETTO:+0200
TZNAME:CEST
DTSTART:20250330T010000
END:DAYLIGHT
BEGIN:STANDARD
TZOFFSETFROM:+0200
TZOFFSETTO:+0100
TZNAME:CET
DTSTART:20251026T010000
END:STANDARD
BEGIN:DAYLIGHT
TZOFFSETFROM:+0100
TZOFFSETTO:+0200
TZNAME:CEST
DTSTART:20260329T010000
END:DAYLIGHT
BEGIN:STANDARD
TZOFFSETFROM:+0200
TZOFFSETTO:+0100
TZNAME:CET
DTSTART:20261025T010000
END:STANDARD
END:VTIMEZONE
BEGIN:VEVENT
DTSTART;VALUE=DATE:20250918
DTEND;VALUE=DATE:20250920
DTSTAMP:20260424T210409
CREATED:20250520T142800Z
LAST-MODIFIED:20250612T094907Z
UID:24384-1758153600-1758326399@www.lkj-lsa.de
SUMMARY:»Rassismuskritische Jungen*arbeit« in Sachsen\, Thüringen und Sachsen-Anhalt
DESCRIPTION:Wann: 18-19.09.2025\nWo: Stadthaus\, Marktpl. 2\, 06108 Halle (Saale)\nKosten: 35€ \n  \nWorum geht’s? \nErfahrungen\, Bedarfe\, Perspektiven – Fachkräfte stärken\, richtig handeln\, jetzt!“ \nDer 2. Fachtag zum Thema Jungenarbeit in Mitteldeutschland\, der am 18. und 19. September 2025 in Halle (Saale) stattfinden wird. Der Schwerpunkt dieser Veranstaltung liegt auf »rassismuskritischer Jungenarbeit« in Sachsen\, Thüringen und Sachsen-Anhalt. \n  \n\n\n  \n\n\n\n  Dein Name  (Pflichtfeld)\n \n \n Deine Anschrift (Straße/Ort/Postleitzahl) (Pflichtfeld)\n \n \n Deine Telefonnummer (Pflichtfeld)\n \n \n Deine E-Mail-Adresse (Pflichtfeld)\n \n \n  Geburtsdatum (Pflichtfeld)\n \n \n  Geschlecht: (Pflichtfeld)\nmwd\n \n  Essenswünsche  (Pflichtfeld)\n \n \n  Was muss gewährleistet werden\, damit eine Teilnahme am Seminar erfolgen kann? \n \n \n  Ich melde mich verbindlich für die Veranstaltung am 18-19.09.2025 an  (Pflichtfeld)\n \n \n\n Δ
URL:https://www.lkj-lsa.de/kalender/rassismuskritische-jungenarbeit-in-sachsen-thueringen-und-sachsen-anhalt/
LOCATION:Sachsen-Anhalt
CATEGORIES:Jugendbildung
ATTACH;FMTTYPE=image/jpeg:https://www.lkj-lsa.de/wp-content/uploads/2019/04/lkj_reportage-©-Giovanna-Gahrns-9-scaled.jpg
END:VEVENT
BEGIN:VEVENT
DTSTART;VALUE=DATE:20250918
DTEND;VALUE=DATE:20250920
DTSTAMP:20260424T210409
CREATED:20250730T085921Z
LAST-MODIFIED:20250730T111843Z
UID:24556-1758153600-1758326399@www.lkj-lsa.de
SUMMARY:Praxis-Fachtagung in den Franckeschen Stiftungen
DESCRIPTION:Praxis-Fachtagung »Vernetzen. Verändern. Gestalten. Kulturelle Bildung trifft Soziale Arbeit« am 18. und 19. September 2025 in den Franckeschen Stiftungen\nDie Franckeschen Stiftungen laden am 18. und 19. September 2025 zu einer Fachtagung ein\, die das spannungsvolle Aufeinandertreffen von Kultureller Bildung und Sozialer Arbeit in der Praxis thematisiert. Im Kontext gesellschaftlich relevanter Fragestellungen\, wie Werteorientierung\, Haltungen\, Bildungsgerechtigkeit und demokratische Teilhabe\, wird die Tagung sowohl nach den Erfahrungen als auch nach den Hürden einer gelungenen Verbindung dieser beiden Bereiche fragen. \nDie Praxis-Fachtagung bietet Fachkräften aus den Bereichen der Kulturellen Bildung und Sozialen Arbeit aus ganz Deutschland die Möglichkeit\, sich in bewährten und neuen Formaten auszutauschen. Internationale Impulse sowie wissenschaftliche Expertisen sollen das Fachtreffen bereichern und neue Perspektiven auf die aktuellen Herausforderungen und Chancen der Interdisziplinaritätund Vernetzung in diesem Feld diskutieren. \nAuch die »Servicestelle für digitale Kulturelle Bildung« wird mit einem Workshop dabei sein: \nVirtual Reality: Räume erobern mit Open Brush\nWie würde ein Ort aussehen\, an dem du dich entspannen\, entfalten\, lernen oder Gemeinschaft erleben kannst? Wäre es ein Atelier ohne Mauern\, das dazu einlädt\, im Stadtteil gemeinsam künstlerisch tätig zu werden? Oder denkst du eher an eine grüne Oase\, die sich mit ihren Menschen wandelt und wächst – organisch\, atmend\, träumend? \nNadia Boltes und Katharina Remiorz von der Servicestelle für digitale Kulturelle Bildung laden die Teilnehmenden ihres Workshops dazu ein\, utopisch zu denken. Der Kreativität werden dabei dank der Virtual-Reality-Anwendung Open Brush und des dreidimensionalen Raums\, in den sich die Teilnehmenden begeben\, keine Grenzen gesetzt. Künstlerisch-forschend nähern sie sich der Frage\, wie öffentliche Räume einladend\, inspirierend und sicher gestaltet werden können. Farben\, Formen und Licht werden zu Werkzeugen\, um Visionen für neue Wohlfühlorte zu entwerfen. Die entstandenen Werke können als visuelle Grundlage für den Austausch mit Anwohnenden\, Fachkräften und Entscheidungsträger*innen dienen oder in Ausstellungen oder Beteiligungsprozesse einfließen\, um vielfältige Perspektiven sichtbar zu machen. \nDie Servicestelle für digitale Kulturelle Bildung der .lkj) Sachsen-Anhalt entwickelt und vermittelt Methoden der digitalen Kulturellen Bildung\, um Fachkräfte zu unterstützen und Kindern und Jugendlichen eine zeitgemäße kulturelle Teilhabe zu ermöglichen. Mit Angeboten zur Fortbildung\, Vernetzung und einer frei zugänglichen Online-Mediathek trägt sie dazu bei\, Kulturelle Bildung kind- und jugendgerecht zu gestalten. \nAnmeldungsschluss ist der 18. August 2025. Die Teilnahme ist kostenfrei \nMehr Infos und das komplette Programm der Praxis-Fachtagung
URL:https://www.lkj-lsa.de/kalender/praxis-fachtagung-in-den-franckeschen-stiftungen/
LOCATION:Franckesche Stiftungen\, Franckeplatz 1\, Halle (Saale)\, Sachsen-Anhalt\, 06110
CATEGORIES:Servicestelle für digitale kulturelle Bildung
ATTACH;FMTTYPE=image/png:https://www.lkj-lsa.de/wp-content/uploads/2025/07/Titelbilder_Open_Brush_5-e1753866176943.png
ORGANIZER;CN=".lkj) Sachsen-Anhalt // %C2%BBServicestelle f%C3%BCr digitale Kulturelle Bildung%C2%AB":MAILTO:nadia.boltes@lkj-lsa.de
END:VEVENT
END:VCALENDAR