BEGIN:VCALENDAR
VERSION:2.0
PRODID:-//.lkj) Sachsen-Anhalt e.V. - ECPv6.15.20//NONSGML v1.0//EN
CALSCALE:GREGORIAN
METHOD:PUBLISH
X-ORIGINAL-URL:https://www.lkj-lsa.de
X-WR-CALDESC:Veranstaltungen für .lkj) Sachsen-Anhalt e.V.
REFRESH-INTERVAL;VALUE=DURATION:PT1H
X-Robots-Tag:noindex
X-PUBLISHED-TTL:PT1H
BEGIN:VTIMEZONE
TZID:Europe/Berlin
BEGIN:DAYLIGHT
TZOFFSETFROM:+0100
TZOFFSETTO:+0200
TZNAME:CEST
DTSTART:20240331T010000
END:DAYLIGHT
BEGIN:STANDARD
TZOFFSETFROM:+0200
TZOFFSETTO:+0100
TZNAME:CET
DTSTART:20241027T010000
END:STANDARD
BEGIN:DAYLIGHT
TZOFFSETFROM:+0100
TZOFFSETTO:+0200
TZNAME:CEST
DTSTART:20250330T010000
END:DAYLIGHT
BEGIN:STANDARD
TZOFFSETFROM:+0200
TZOFFSETTO:+0100
TZNAME:CET
DTSTART:20251026T010000
END:STANDARD
BEGIN:DAYLIGHT
TZOFFSETFROM:+0100
TZOFFSETTO:+0200
TZNAME:CEST
DTSTART:20260329T010000
END:DAYLIGHT
BEGIN:STANDARD
TZOFFSETFROM:+0200
TZOFFSETTO:+0100
TZNAME:CET
DTSTART:20261025T010000
END:STANDARD
END:VTIMEZONE
BEGIN:VEVENT
DTSTART;VALUE=DATE:20251006
DTEND;VALUE=DATE:20251011
DTSTAMP:20260424T181247
CREATED:20251022T103000Z
LAST-MODIFIED:20260121T101815Z
UID:24926-1759708800-1760140799@www.lkj-lsa.de
SUMMARY:Einführungsseminar - Seminargruppe Orange
DESCRIPTION:Einstimmungsseminar auf das Freiwillige Soziale Jahr in der Kultur mit den Schwerpunktthemen: Kennenlernen\, (Erfahrungs-) Austausch über den Einsatz in den Einsatzstellen\, Kommunikation und Konfliktmanagement\, Auseinandersetzung mit dem Kulturbegriff\, Einführung ins Projekt­management\, Interessenvertreter*innen der Seminargruppe finden\, Reflexion der ersten Wochen im FSJ und der Ziele und Wünsche\, Auseinandersetzung mit Partizipation und Vorstellung des Partizipationskonzepts für die Seminare. \nFoto: © Giovanna Gahrns
URL:https://www.lkj-lsa.de/kalender/einfuehrungstage-seminargruppe-orange/
LOCATION:Erlebnishaus Altmark\, Zethlinger Dorfstraße 28\, Zethlingen\, Sachsen-Anhalt\, 39624\, Germany
CATEGORIES:Freiwilligendienste in Kultur und Bildung
ATTACH;FMTTYPE=image/jpeg:https://www.lkj-lsa.de/wp-content/uploads/2025/10/lkj_reportage-©-Giovanna-Gahrns-28-scaled.jpg
ORGANIZER;CN=".lkj) Sachsen-Anhalt":MAILTO:info@lkj-lsa.de
END:VEVENT
BEGIN:VEVENT
DTSTART;TZID=Europe/Berlin:20251006T140000
DTEND;TZID=Europe/Berlin:20251006T170000
DTSTAMP:20260424T181247
CREATED:20250909T134219Z
LAST-MODIFIED:20250909T134219Z
UID:24691-1759759200-1759770000@www.lkj-lsa.de
SUMMARY:Einladung zum Kick-Off-Event Kulturelle Bildung in Halle
DESCRIPTION:Montag\, 6. Oktober 2025\nvon 14 bis 17 Uhr\nim Puschkinhaus\, ehem. Thalia Theater\nKardinal-Albrecht-Straße 6\, 06108 Halle (Saale) \nFreut Euch auf einen lebendigen Nachmittag mit Kaffee\, Snacks und Raum für Ideen! Mit Impulsen\, offenem Austausch und vielfältigen Möglichkeiten zur Vernetzung mit anderen Akteur*innen der Kulturellen Bildung und mit der Koordinatorin für Kulturelle Bildung im Fachbereich Kultur. \nFolgendes erwartet Euch: \n\nEin Kennenlern- und Vernetzungsformat\nEin Open Space Format\, in dem Ihr Eure eigenen Themen und Anliegen einbringen könnt – die Themenauswahl entsteht also live vor Ort. Vorab festgelegt haben wir nur das zentrale Thema Selbstverständnis und Ziele der Kulturellen Bildung in Halle.\nGelegenheit\, neue Kontakte zu knüpfen und sich bei Kaffee und Snacks auszutauschen\n\nBitte meldet Euch bis zum 29.09.25 über folgenden Link an: https://forms.gle/eTj5CeRJdAqH93qr8 \nDas Kick-Off ist Eure Chance\, aktiv die zukünftige Entwicklung der Kulturellen Bildung in Halle mitzugestalten und gemeinsam neue Wege der Zusammenarbeit zu eröffnen. \nBei Fragen kontaktieren Sie gerne nadia.schmidt@halle.de (Koordination Kulturelle Bildung und Soziokultur FB Kultur) \nInformationen zur Barrierefreiheit: Eine behindertengerechte Toilette ist vorhanden\, die Befahrbarkeit der Räumlichkeiten mit Rollstuhl ist per Fahrstuhl gewährleistet. \nOrganisiert von: Nadia Schmidt FB Kultur Halle in Zusammenarbeit mit Franziska Dusch (Wall and Space e.V.)\, Anett Krake (Bühnen Halle) und Franziska Massa (Bürgerstiftung) \nEine Veranstaltung des Fachbereichs Kultur Halle in Kooperation mit Akteurinnen der Kulturellen Bildung in Halle. \n  \nDie Veranstaltung wird gefördert im Rahmen des Programms „Künste öffnen Welten“ der Bundesvereinigung Kulturelle Kinder- und Jugendbildung (BKJ) im Rahmen des Gesamtprogramms
URL:https://www.lkj-lsa.de/kalender/einladung-zum-kick-off-event-kulturelle-bildung-in-halle/
LOCATION:Puschkinhaus\, Kardinal-Albrecht-Straße 6\, Halle (Saale)\, Sachsen-Anhalt\, 06108
CATEGORIES:Allgemein
ATTACH;FMTTYPE=image/png:https://www.lkj-lsa.de/wp-content/uploads/2024/09/Fachtag-lkj-©-Christin-Kuester-205.png
END:VEVENT
END:VCALENDAR