BEGIN:VCALENDAR
VERSION:2.0
PRODID:-//.lkj) Sachsen-Anhalt e.V. - ECPv6.15.20//NONSGML v1.0//EN
CALSCALE:GREGORIAN
METHOD:PUBLISH
X-WR-CALNAME:.lkj) Sachsen-Anhalt e.V.
X-ORIGINAL-URL:https://www.lkj-lsa.de
X-WR-CALDESC:Veranstaltungen für .lkj) Sachsen-Anhalt e.V.
REFRESH-INTERVAL;VALUE=DURATION:PT1H
X-Robots-Tag:noindex
X-PUBLISHED-TTL:PT1H
BEGIN:VTIMEZONE
TZID:Europe/Berlin
BEGIN:DAYLIGHT
TZOFFSETFROM:+0100
TZOFFSETTO:+0200
TZNAME:CEST
DTSTART:20240331T010000
END:DAYLIGHT
BEGIN:STANDARD
TZOFFSETFROM:+0200
TZOFFSETTO:+0100
TZNAME:CET
DTSTART:20241027T010000
END:STANDARD
BEGIN:DAYLIGHT
TZOFFSETFROM:+0100
TZOFFSETTO:+0200
TZNAME:CEST
DTSTART:20250330T010000
END:DAYLIGHT
BEGIN:STANDARD
TZOFFSETFROM:+0200
TZOFFSETTO:+0100
TZNAME:CET
DTSTART:20251026T010000
END:STANDARD
BEGIN:DAYLIGHT
TZOFFSETFROM:+0100
TZOFFSETTO:+0200
TZNAME:CEST
DTSTART:20260329T010000
END:DAYLIGHT
BEGIN:STANDARD
TZOFFSETFROM:+0200
TZOFFSETTO:+0100
TZNAME:CET
DTSTART:20261025T010000
END:STANDARD
END:VTIMEZONE
BEGIN:VEVENT
DTSTART;TZID=Europe/Berlin:20251112T163000
DTEND;TZID=Europe/Berlin:20251112T173000
DTSTAMP:20260424T170809
CREATED:20250225T102746Z
LAST-MODIFIED:20251027T112916Z
UID:23949-1762965000-1762968600@www.lkj-lsa.de
SUMMARY:förderBar mit Kreuzberger Kinderstiftung
DESCRIPTION:Wir stellen vor: »förderBar«\nUnsere Online-Veranstaltungsreihe »förderBar« bringt die Projektakteur*innen und Vertreter*innen von Fördermöglichkeiten zusammen. \nBei förderBar stellen Förderer ihre Förderprogramme vor. Anschließend können die Teilnehmer*innen über ihre Fragen\, Bedarf und Anliegen sprechen. Teilnehmen können alle Interessierten\, die für ihre Vereine\, Initiativen oder ihre Organisationen eine passende Förderung finden möchten. \nIm November stellt die Kreuzberger Kinderstiftung ihr Angebot vor. Die Kreuzberger Kinderstiftung möchte das Engagement junger Menschen und ihre Teilhabe an gesellschaftspolitischen Prozessen fördern. Insbesondere möchte sie Jugendliche dabei unterstützen\, aus ihren eigenen Ideen Projekte zu entwickeln und diese selbstständig zu planen. \nIhr habt eine Projektidee\, die passend wäre? Oder seid einfach an Möglichkeiten der Finanzierung interessiert? Kommt vorbei! \nWann und wo? \nKreuzberger Kinderstiftung\nOnline I 12. November 2025 I 16.30 – 17.30 Uhr \nDie Teilnahme ist kostenlos. \nAnmeldung sind bis zum 11.11.\, 12 Uhr möglich unter: https://forms.office.com/e/Y50NYmk0pF  \n  \nDie Veranstaltung wird von den drei Projekten Fördermittelberatung\, Beratungsstelle »Kultur macht stark« und dem Projekt Resonanzboden // House of Resources Magdeburg organisiert.
URL:https://www.lkj-lsa.de/kalender/foerderbar-mit-kreuzberger-kinderstiftung/
LOCATION:online
CATEGORIES:Allgemein,Fördermittelberatung / Kultur macht stark,Kultur macht stark,Resonanzboden
ATTACH;FMTTYPE=image/png:https://www.lkj-lsa.de/wp-content/uploads/2025/02/Kreuzberger-Kinderstiftung.png
ORGANIZER;CN=".lkj) Sachsen-Anhalt // F%C3%B6rdermittelberatung":MAILTO:rabea.diebe@lkj-lsa.de
END:VEVENT
END:VCALENDAR