BEGIN:VCALENDAR
VERSION:2.0
PRODID:-//.lkj) Sachsen-Anhalt e.V. - ECPv6.15.20//NONSGML v1.0//EN
CALSCALE:GREGORIAN
METHOD:PUBLISH
X-WR-CALNAME:.lkj) Sachsen-Anhalt e.V.
X-ORIGINAL-URL:https://www.lkj-lsa.de
X-WR-CALDESC:Veranstaltungen für .lkj) Sachsen-Anhalt e.V.
REFRESH-INTERVAL;VALUE=DURATION:PT1H
X-Robots-Tag:noindex
X-PUBLISHED-TTL:PT1H
BEGIN:VTIMEZONE
TZID:Europe/Berlin
BEGIN:DAYLIGHT
TZOFFSETFROM:+0100
TZOFFSETTO:+0200
TZNAME:CEST
DTSTART:20180325T010000
END:DAYLIGHT
BEGIN:STANDARD
TZOFFSETFROM:+0200
TZOFFSETTO:+0100
TZNAME:CET
DTSTART:20181028T010000
END:STANDARD
BEGIN:DAYLIGHT
TZOFFSETFROM:+0100
TZOFFSETTO:+0200
TZNAME:CEST
DTSTART:20190331T010000
END:DAYLIGHT
BEGIN:STANDARD
TZOFFSETFROM:+0200
TZOFFSETTO:+0100
TZNAME:CET
DTSTART:20191027T010000
END:STANDARD
BEGIN:DAYLIGHT
TZOFFSETFROM:+0100
TZOFFSETTO:+0200
TZNAME:CEST
DTSTART:20200329T010000
END:DAYLIGHT
BEGIN:STANDARD
TZOFFSETFROM:+0200
TZOFFSETTO:+0100
TZNAME:CET
DTSTART:20201025T010000
END:STANDARD
END:VTIMEZONE
BEGIN:VEVENT
DTSTART;VALUE=DATE:20190402
DTEND;VALUE=DATE:20190406
DTSTAMP:20260423T123737
CREATED:20190208T133125Z
LAST-MODIFIED:20190208T133125Z
UID:10869-1554163200-1554508799@www.lkj-lsa.de
SUMMARY:DDR-Gedenkstättenfahrt Sachsen-Anhalt
DESCRIPTION:In diesem Wahlpflichtseminar beschäftigen wir uns mit der Geschichte der DDR und der Erinnerung an diese Zeit. Sachsen-Anhalt war von 1949 bis 1990 ein Teil der DDR. Mit der Wiedervereinigung begann die herausfordernde Beschäftigung damit\, wie mit dieser Vergangenheit umgegangen werden sollte. Hinweise darauf\, wie und an welche Ereignisse oder Begebenheiten sich in welcher Form erinnert wird\, liefern unter anderem die Gedenkstätten Sachsen-Anhalts. Während dieses Wahlpflichtseminares werden wir die Erinnerungsorte »Gedenkstätte Deutsche Teilung Marienborn«\, »Gedenkstätte Moritzplatz Magdeburg« und »Gedenkstätte ROTER OCHSE Halle (Saale)« besuchen. Dort werden wir mithilfe der Mitarbeitenden vielseitige Einblicke in die Zeit der DDR bekommen und werden uns aktiv mit Fragen und Diskussionen einbringen können.
URL:https://www.lkj-lsa.de/kalender/ddr-gedenkstaettenfahrt-sachsen-anhalt/
LOCATION:Sachsen-Anhalt
CATEGORIES:Freiwilligendienste in Kultur und Bildung
ORGANIZER;CN=".lkj) Sachsen-Anhalt e.V. // FWD Kultur und Bildung":MAILTO:fsj@lkj-lsa.de
END:VEVENT
BEGIN:VEVENT
DTSTART;VALUE=DATE:20190413
DTEND;VALUE=DATE:20190414
DTSTAMP:20260423T123737
CREATED:20190208T115632Z
LAST-MODIFIED:20190312T103753Z
UID:10835-1555113600-1555199999@www.lkj-lsa.de
SUMMARY:Umgang mit Hate Speech im Netz || Multiplikator*innen-Schulung im Projekt »SPEAK UP!« @ .lkj) Sachsen-Anhalt e. V.
DESCRIPTION:Hate Speech – Gegenrede und Konfliktlösung im World Wide Web\nElektronische Medien sind zu einem festen Bestandteil in unserem Leben geworden. Gerade mobile Geräte unterstützen zwischenmenschliche Kommunikation. Neben wertschätzendem Austausch werden Medien leider auch für Diffamierungen und Hate Speech im Netz missbraucht. Es werden die unterschiedlichen Ausdrucksformen sowie die straf- und zivilrechtlichen Aspekte dargestellt. Neben diesen Informationen reflektieren die Teilnehmer*innen ihre eigenen Gewalterfahrungen beziehungsweise Beobachtungen beim Gebrauch von Smartphone und Internet. Unter anderem werden folgende Fragestellungen aufgeworfen: „Welche Äußerungen stehen unter dem Schutz der Meinungsfreiheit?“\, „Mit welchen Äußerungen machen sich andere oder ich selbst eventuell strafbar?“\, „Wie kann ich mich und andere vor Cyber-Attacken schützen?“ und „Wie funktioniert eigentlich Gegenrede (Counter Speech)?“. Im Workshop werden toxische Netzaktivitäten analysiert und Akteur*innen gegen Hate Speech vorgestellt sowie konkrete Gegenstrategien gezeigt. Es besteht auch die Möglichkeit Memes und GIFs für die kreative Gegenrede zu produzieren. \n  \nDas Seminar ist Teil der inhaltlichen Auseinandersetzung einer Multiplikator*innen-Ausbildung im Projekt »SPEAK UP! Your voice matters l Gemeinsam gegen Diskriminierung« und wird gefördert durch die Bundeszentrale für politische Bildung. Für mehr Informationen zum Projekt kontaktiere uns per E-Mail: speakup@lkj-lsa.de \n  \n// Wer: Menschen zwischen 16 und 21 Jahren in Sachsen-Anhalt\n// Wann: 13. April 2019\n// Wo: .lkj) Sachsen-Anhalt e.V.\nBrandenburger Straße 9\,\n39104 Magdeburg\n// Wichtig: Die Teilnahme an dem Seminar ist kostenlos. Die Fahrtkosten von deinem Wohnort zum Seminar bekommst du von uns erstattet. Bitte wähle eine günstige Reisevariante und bilde Fahrgemeinschaften. Wir helfen dir gerne weiter! \nFragen und Anmeldung bis 05. April via E-Mail: anna.mueller@lkj-lsa.de
URL:https://www.lkj-lsa.de/kalender/umgang-mit-hate-speech-im-netz-multiplikatorinnen-schulung-im-projekt-speak-up-lkj-sachsen-anhalt-e-v/
LOCATION:Forum Gestaltung\, Brandenburger Str. 9\, Magdeburg\, Sachsen-Anhalt\, 39104\, Deutschland
CATEGORIES:Speak Up
END:VEVENT
BEGIN:VEVENT
DTSTART;TZID=Europe/Berlin:20190423T100000
DTEND;TZID=Europe/Berlin:20190423T160000
DTSTAMP:20260423T123737
CREATED:20190320T151725Z
LAST-MODIFIED:20190320T151725Z
UID:13033-1556013600-1556035200@www.lkj-lsa.de
SUMMARY:Diskriminierungssensible Sprache in der Presse- und Öffentlichkeitsarbeit für hauptamtliche Mitarbeitende in der Integrationsarbeit
DESCRIPTION:Gerade im zivilgesellschaftlichen Bereich ist Kommunikation Kernbestandteil jeder Arbeit. Eine gute Presse- und Öffentlichkeitsarbeit wird mittlerweile auch für Institutionen\, Projekte und Initiativen der Integrationsarbeit immer wesentlicher. Dabei ist es wichtig\, die eigenen Formulierungen immer wieder auf den Prüfstand zu stellen\, um ungewollte Verletzungen und Diskriminierungen zu vermeiden – sei es in einer Pressemitteilung\, im Newsletter oder auf der Website. Im Training wird zunächst das Glossar der Neuen deutschen Medienmacher als praktisches Tool vorgestellt\, um dann im praktischen Teil verschiedene Beispiele (eigene Beispiele der Teilnehmenden und andere) zu analysieren. \nDozentin: Alice Lanzke \nAlice Lanzke setzt sich bei den Neuen deutschen Medienmacher*innen (NDM) für mehr Vielfalt in deutschen Redaktionen und eine diversere Berichterstattung ein. In dem von ihr konzipierten Projekt „Medientrainings“ werden NGOs für einen selbstbewussten Umgang mit der Presse geschult. Zudem gibt sie Schulungen und Workshops zum Thema diskriminierungssensibler Sprachgebrauch und betreut Publikationen\, u. a. zu den Themen Rechtsextremismus\, Antisemitismus und Hate Speech. \nSeit ihrem Diplom in Politikwissenschaft an der Freien Universität Berlin und einem Master in Journalismus an der Johannes Gutenberg-Universität Mainz arbeitet sie als freie Journalistin vor allem für den öffentlich-rechtlichen Hörfunk sowie diverse Print-Titel. Ihre Schwerpunkte als Journalistin sind jüdisches Leben in Deutschland\, Wissenschaft sowie die Kulturlandschaft Berlins. \nSeminarsprache ist Deutsch. Sprachmittlung kann auf Anfrage organisiert werden / Veranstaltungsort ist barrierearm zugänglich. \nMax. Teilnehmenden -Zahl: 15 \nDie Anmeldung ist bis zum 18. April 2019 unter franziska.wildner@f-bb.de möglich.
URL:https://www.lkj-lsa.de/kalender/diskriminierungssensible-sprache-in-der-presse-und-oeffentlichkeitsarbeit-fuer-hauptamtliche-mitarbeitende-in-der-integrationsarbeit/
LOCATION:.lkj) Sachsen-Anhalt e. V.\, Brandeburger Straße 9\, Magdeburg\, Sachsen-Anhalt\, 39104\, Deutschland
CATEGORIES:Resonanzboden
END:VEVENT
BEGIN:VEVENT
DTSTART;TZID=Europe/Berlin:20190424T170000
DTEND;TZID=Europe/Berlin:20190424T190000
DTSTAMP:20260423T123737
CREATED:20190218T140534Z
LAST-MODIFIED:20190219T142116Z
UID:11073-1556125200-1556132400@www.lkj-lsa.de
SUMMARY:Antragswerkstatt Resonanzboden: 4. Termin
DESCRIPTION:Die Teilnahme an der Antragswerkstatt ist die Voraussetzung für die Beantragung eines Mikroprojektes bei Resonanzboden. Bei der Antragswerkstatt erhalten Sie Informationen zu den Förderbedingungen und können sich zu Ihrer Projektidee beraten lassen. Sie können sich mit unten stehendem Formular verbindlich für einen Termin anmelden. Ohne Anmeldungen findet die Antragswerkstatt nicht statt. \nBei einer weiteren Antragsstellung durch denselben Projektträger (z.B. für Weiterführung/Weiterentwicklung eines Projektes) ist keine neuerliche Teilnahme notwendig! \nDie Teilnahme an einer Antragswerkstatt ist nur sinnvoll\, wenn bereits eine grobe Projektidee besteht\, auf die sich der Mikroprojektantrag beziehen soll. Lassen Sie uns Ihre Projektidee bitte als grobe Projektskizze zukommen. Am einfachsten geht das\, wenn Sie diese über das Anmeldeformular auf der Resonanzboden-Website unter „Projektskizze“ hochladen. Die Projektskizze sollte zwischen 1000 und 2000 Zeichen umfassen. \nDas Anmeldeformular finden Sie hier. \nAlternativ können Sie sich natürlich auch telefonisch unter der Telefonnummer 0391-244 51 76 anmelden.
URL:https://www.lkj-lsa.de/kalender/antragswerkstatt-resonanzboden-4-termin/
LOCATION:Forum Gestaltung\, Brandenburger Str. 9\, Magdeburg\, Sachsen-Anhalt\, 39104\, Deutschland
CATEGORIES:Resonanzboden
ORGANIZER;CN="Resonanzboden//House of Resources Magdeburg":MAILTO:info@resonanzboden.global
END:VEVENT
BEGIN:VEVENT
DTSTART;VALUE=DATE:20190429
DTEND;VALUE=DATE:20190430
DTSTAMP:20260423T123737
CREATED:20190208T121947Z
LAST-MODIFIED:20190208T123452Z
UID:10850-1556496000-1556582399@www.lkj-lsa.de
SUMMARY:Reflexionstag Seminargruppe Grün
DESCRIPTION:
URL:https://www.lkj-lsa.de/kalender/reflexionstag-seminargruppe-gruen/
LOCATION:Forum Gestaltung\, Brandenburger Str. 9\, Magdeburg\, Sachsen-Anhalt\, 39104\, Deutschland
CATEGORIES:Freiwilligendienste in Kultur und Bildung
ORGANIZER;CN=".lkj) Sachsen-Anhalt e.V. // FWD Kultur und Bildung":MAILTO:fsj@lkj-lsa.de
END:VEVENT
END:VCALENDAR