BEGIN:VCALENDAR
VERSION:2.0
PRODID:-//.lkj) Sachsen-Anhalt e.V. - ECPv6.15.20//NONSGML v1.0//EN
CALSCALE:GREGORIAN
METHOD:PUBLISH
X-WR-CALNAME:.lkj) Sachsen-Anhalt e.V.
X-ORIGINAL-URL:https://www.lkj-lsa.de
X-WR-CALDESC:Veranstaltungen für .lkj) Sachsen-Anhalt e.V.
REFRESH-INTERVAL;VALUE=DURATION:PT1H
X-Robots-Tag:noindex
X-PUBLISHED-TTL:PT1H
BEGIN:VTIMEZONE
TZID:Europe/Berlin
BEGIN:DAYLIGHT
TZOFFSETFROM:+0100
TZOFFSETTO:+0200
TZNAME:CEST
DTSTART:20240331T010000
END:DAYLIGHT
BEGIN:STANDARD
TZOFFSETFROM:+0200
TZOFFSETTO:+0100
TZNAME:CET
DTSTART:20241027T010000
END:STANDARD
BEGIN:DAYLIGHT
TZOFFSETFROM:+0100
TZOFFSETTO:+0200
TZNAME:CEST
DTSTART:20250330T010000
END:DAYLIGHT
BEGIN:STANDARD
TZOFFSETFROM:+0200
TZOFFSETTO:+0100
TZNAME:CET
DTSTART:20251026T010000
END:STANDARD
BEGIN:DAYLIGHT
TZOFFSETFROM:+0100
TZOFFSETTO:+0200
TZNAME:CEST
DTSTART:20260329T010000
END:DAYLIGHT
BEGIN:STANDARD
TZOFFSETFROM:+0200
TZOFFSETTO:+0100
TZNAME:CET
DTSTART:20261025T010000
END:STANDARD
END:VTIMEZONE
BEGIN:VEVENT
DTSTART;VALUE=DATE:20250401
DTEND;VALUE=DATE:20250402
DTSTAMP:20260420T005932
CREATED:20241029T153023Z
LAST-MODIFIED:20241029T153023Z
UID:23529-1743465600-1743551999@www.lkj-lsa.de
SUMMARY:Einsendeschluss: 28. Kinder- und Jugend-Kultur-Preis des Landes Sachsen-Anhalt
DESCRIPTION:Wir suchen kreative Köpfe\, die ihre genial-magischen Ideen und Gedanken mit uns teilen möchten. Ob es sich um fantasievolle Geschichten\, innovative Projekte oder fantastische Kunstwerke handelt – wir sind gespannt auf eure einzigartigen Einreichungen zum Motto: \n\n\n\n\n\n\n\n\n\n\n\n\n»Hokus Pokus«\n  \n\n\n\n\n\n\n\n\n\n\n\n\n\nLasst eurer Fantasie freien Lauf und reicht eure Beiträge bis zum 1. April 2025 bei uns ein. Ihr habt die Chance auf tolle Preise im Gesamtwert von 6.500 Euro. Mitmachen können Kindern und Jugendliche aus Sachsen-Anhalt bis einschließlich 21 Jahre – sowohl einzeln oder als auch in Gruppen. \nAusgerichtet wird der Kinder- und Jugend-Kultur-Preis von der Staatskanzlei und Ministerium für Kultur des Landes Sachsen-Anhalt in Kooperation mit der .lkj) – Landesvereinigung kulturelle Kinder- und Jugendbildung Sachsen-Anhalt e. V. \n  \n\nMehr Informationen findet ihr unter: kjkp.lkj-lsa.de
URL:https://www.lkj-lsa.de/kalender/einsendeschluss-28-kinder-und-jugend-kultur-preis-des-landes-sachsen-anhalt/
LOCATION:Sachsen-Anhalt
ATTACH;FMTTYPE=image/png:https://www.lkj-lsa.de/wp-content/uploads/2024/10/LKJKP24_Header_1920x1080_v2.png
ORGANIZER;CN=".lkj) Sachsen-Anhalt // Kinder- und Jugend-Kultur-Preis des Landes Sachsen-Anhalt":MAILTO:kjkp@lkj-lsa.de
END:VEVENT
BEGIN:VEVENT
DTSTART;TZID=Europe/Berlin:20250411T160000
DTEND;TZID=Europe/Berlin:20250413T130000
DTSTAMP:20260420T005932
CREATED:20250122T110641Z
LAST-MODIFIED:20250217T170646Z
UID:23804-1744387200-1744549200@www.lkj-lsa.de
SUMMARY:Projektschmiede - Maßgeschneiderte Qualifizierung für Träger*innen | Teilnahme kostenfrei!
DESCRIPTION:Bewerbungsphase bis zum 23.02.2025 verlängert! \nDie Projektschmiede ist eine Qualifizierungsreihe für Akteur*innen der Integrationsarbeit. \nSie lernen\, Ihre eigenen Projektideen zu entwickeln und erfolgreich Projektförderung zu beantragen. \nIn mehrtägigen Workshop-Modulen und Einzelberatungen werden Sie professionell dabei unterstützt \n\ninnovative Projektideen klar zu formulieren\,\neinen stimmigen Projektantrag mit Finanzierungsplan zu schreiben\,\nnotwendiges Wissen für die erfolgreiche Durchführung eines mehrjährigen Projektes zu erlernen.\n\nSie arbeiten praxisnah an ihrer konkreten Projektidee und erlernen theoretisches Wissen zu Antragstellung und Projektförderung. Mit diesem Wissen können Sie künftig auch weitere Projektanträge eigenständig erarbeiten. Die Projektschmiede bietet eine Plattform\, sich gemeinsam mit anderen Akteur*innen aus der Integrationsarbeit auszutauschen. \nWer kann teilnehmen?\nAn der Projektschmiede können Vertreter*innen von Organisationen teilnehmen\, die als gemeinnützig anerkannt sind. (Zum Beispiel: Verbände\, Migranten(selbst)organisationen\, Migrant*innenjugend(selbst)organisationen\, postmigrantische Organisationen\, Stiftungen\, anerkannte Träger der politischen Bildung\, Kommunen\, gemeinnützige Vereine und Unternehmen.) \nHintergrund\nDie Projektschmiede ist ein Angebot des Bundesprogramms »Gesellschaftlicher Zusammenhalt –Vor Ort. Vernetzt. Verbunden.« (BGZ). Mit ihr sollen Träger\, die sich vor Ort für das Gemeinwohl stark machen\, dabei unterstützt werden\, innovative Projektideen umzusetzen. Viele Träger kommen in ihrem Engagement an einen Punkt\, an dem sie für die Umsetzung ihrer Ideen finanzielle Unterstützung benötigen. Gerade neue\, wenig etablierte Vereine und andere gemeinnützige Organisationen erleben diesen Punkt als schwer überwindbare Hürde. Hier setzt das BGZ mit seinen Projektschmieden an: Die Projektschmieden unterstützen dabei\, innovative Projektideen in erfolgversprechende Projektanträge zu verwandeln. \n  \nAnmeldung Projektschmiede in Magdeburg\nDie Teilnehmerzahl ist begrenzt. Daher erfolgt die Vergabe der Plätze über ein kurzes digitales Bewerbungsformular und anschließendes Kennenlerngespräch. Pro Organisation dürfen je 2 Personen teilnehmen. Bitte bewerben Sie sich nur\, wenn Sie an allen Terminen teilnehmen können! \n  \nPräsenzworkshop (dreitägig)\nFreitag\, 11.04.2025 | 16 -19 Uhr\nSamstag\, 12.04.2025 | 9 – 17 Uhr\nSonntag\, 13.04.2025 | 9 – 13 Uhr \nOrt: 11. – 13.04.2025 | forum gestaltung | Brandenburger Straße 10\, 39104 Magdeburg\n \nOnlinetermine zur Vertiefung (jeweils montags 17.30  – 20.30 Uhr)\n28.04.2025 | 05.05. & 12.05.2025 \n  \nDie Bewerbungsphase läuft vom 19.01.-23.02.2025. Bewerben Sie sich hier \n  \nTermine & Links zu den Infoveranstaltungen\nBesuchen Sie gerne eine der zwei Infoveranstaltungen zu den Projektschmieden 2025.\nFür die Teilnahme an der Infoveranstaltung ist keine Anmeldung erforderlich! \nMontag\, 27.01.2025\, 10 – 11 Uhr: Einwählen über diesen Link \nDienstag\, 04.02.2025\, 18 – 19 Uhr: Einwählen über diesen Link \n  \nDie Projektschmiede wird im Rahmen des Bundesprogramms »Gesellschaftlicher Zusammenhalt – Vor Ort. Vernetzt. Verbunden.« gefördert durch das Bundesministerium des Inneren und für Heimat (BMI).
URL:https://www.lkj-lsa.de/kalender/projektschmiede-massgeschneiderte-qualifizierung-fuer-traegerinnen-teilnahme-kostenfrei/
LOCATION:Forum Gestaltung\, Brandenburger Str. 9\, Magdeburg\, Sachsen-Anhalt\, 39104\, Deutschland
ATTACH;FMTTYPE=image/png:https://www.lkj-lsa.de/wp-content/uploads/2025/01/Header-VA_Projektschmiede.png
END:VEVENT
BEGIN:VEVENT
DTSTART;VALUE=DATE:20250428
DTEND;VALUE=DATE:20250501
DTSTAMP:20260420T005932
CREATED:20250213T153742Z
LAST-MODIFIED:20250213T155254Z
UID:23902-1745798400-1746057599@www.lkj-lsa.de
SUMMARY:Maskenbau
DESCRIPTION:Hattest du auch schon einmal den Wunsch jemand anders zu sein? Eine optische Verwandlung zu erleben\, so dass du dich selber nicht mehr im Spiegel erkennst? Dann solltest du dir diesen Workshop nicht entgehen lassen!\nUnser Gesicht ist eine Leinwand\, welche wir immer neu gestalten und verändern können. Wir werden Masken bauen\, welche nur auf unser eigenes Gesicht passen und eine Menge über die Wirkung von Farben\, Puder\, Lidschatten\, Latexteilen und anderen Materialien erlernen.\nOb eine alte Frau\, der klassische Bösewicht\, eine Drag-Queen\, ein abstraktes Fabelwesen oder vieles mehr – an diesen Tagen kannst du dich in alles verwandeln\, wonach dir gerade ist. \nDies ist eine Veranstaltung im Rahmen der Freiwilligendienste Kultur und Bildung. Teilnehmen dürfen nur Freiwilligendienstleistende.
URL:https://www.lkj-lsa.de/kalender/maskenbau/
LOCATION:Jugendbildungsstätte St.-Michaels-Haus Roßbach/Naumburg\, Am Leihdenberg 1\, Naumburg OT Roßbach\, 06618\, Deutschland
CATEGORIES:Freiwilligendienste in Kultur und Bildung
ATTACH;FMTTYPE=image/jpeg:https://www.lkj-lsa.de/wp-content/uploads/2023/10/EOL25_23.9.23_A.nne_.jpg
END:VEVENT
BEGIN:VEVENT
DTSTART;VALUE=DATE:20250429
DTEND;VALUE=DATE:20250501
DTSTAMP:20260420T005932
CREATED:20250213T155308Z
LAST-MODIFIED:20250401T093700Z
UID:23905-1745884800-1746057599@www.lkj-lsa.de
SUMMARY:Verschwörungserzählungen
DESCRIPTION:Vom Aluhut zur Neuen Weltordnung: Verschwörungserzählungen verstehen und widerlegen Chemtrails\, Echsen-Menschen\, Pizza-Gate: Verschwörungserzählungen\, die häufig verlacht werden. Doch sie wurzeln in Fragen\, die sich fast jede*r schon einmal gestellt hat. Und sie stellen Wissenschaft und Demokratie in Frage. Wir untersuchen\, wie Verschwörungserzählungen entstehen\, lernen\, wie wir Informationen prüfen können und üben\, Verschwörungserzählungen zu widerlegen und im Kontakt zu bleiben. Denn seit der Corona-Pandemie erreichen Verschwörungserzählungen in Deutschland immer mehr Menschen – und auf einmal sind es keine Unbekannten aus dem Internet\, sondern unsere Verwandten\, Freund*innen und Kolleg*innen\, die uns auffordern\, „endlich aufzuwachen“. Und uns fehlen oft die Argumente. \nDies ist eine Veranstaltung im Rahmen der Freiwilligendienste Kultur und Bildung. Teilnehmen dürfen nur Freiwilligendienstleistende. \nFoto: Andi Weiland | BKJ
URL:https://www.lkj-lsa.de/kalender/verschwoerungserzaehlungen/
LOCATION:Jugendbildungsstätte St.-Michaels-Haus Roßbach/Naumburg\, Am Leihdenberg 1\, Naumburg OT Roßbach\, 06618\, Deutschland
CATEGORIES:Freiwilligendienste in Kultur und Bildung
ATTACH;FMTTYPE=image/jpeg:https://www.lkj-lsa.de/wp-content/uploads/2025/02/Freiwilligendienste-Kultur-Bildung-Seminargruppe-Workshop-BKJ-Andi-Weiland.jpg
END:VEVENT
END:VCALENDAR