BEGIN:VCALENDAR
VERSION:2.0
PRODID:-//.lkj) Sachsen-Anhalt e.V. - ECPv6.15.20//NONSGML v1.0//EN
CALSCALE:GREGORIAN
METHOD:PUBLISH
X-ORIGINAL-URL:https://www.lkj-lsa.de
X-WR-CALDESC:Veranstaltungen für .lkj) Sachsen-Anhalt e.V.
REFRESH-INTERVAL;VALUE=DURATION:PT1H
X-Robots-Tag:noindex
X-PUBLISHED-TTL:PT1H
BEGIN:VTIMEZONE
TZID:Europe/Berlin
BEGIN:DAYLIGHT
TZOFFSETFROM:+0100
TZOFFSETTO:+0200
TZNAME:CEST
DTSTART:20240331T010000
END:DAYLIGHT
BEGIN:STANDARD
TZOFFSETFROM:+0200
TZOFFSETTO:+0100
TZNAME:CET
DTSTART:20241027T010000
END:STANDARD
BEGIN:DAYLIGHT
TZOFFSETFROM:+0100
TZOFFSETTO:+0200
TZNAME:CEST
DTSTART:20250330T010000
END:DAYLIGHT
BEGIN:STANDARD
TZOFFSETFROM:+0200
TZOFFSETTO:+0100
TZNAME:CET
DTSTART:20251026T010000
END:STANDARD
BEGIN:DAYLIGHT
TZOFFSETFROM:+0100
TZOFFSETTO:+0200
TZNAME:CEST
DTSTART:20260329T010000
END:DAYLIGHT
BEGIN:STANDARD
TZOFFSETFROM:+0200
TZOFFSETTO:+0100
TZNAME:CET
DTSTART:20261025T010000
END:STANDARD
END:VTIMEZONE
BEGIN:VEVENT
DTSTART;VALUE=DATE:20250613
DTEND;VALUE=DATE:20250616
DTSTAMP:20260420T040654
CREATED:20250430T062258Z
LAST-MODIFIED:20250430T062258Z
UID:24286-1749772800-1750031999@www.lkj-lsa.de
SUMMARY:Künstliche Intelligenz zum Anfassen und Mitmachen an 3 Tagen
DESCRIPTION:KI im Einklang mit Musik\, sowie Kunst? Wie soll das gehen? Sind die Kultur und die Ausdrucksrichtungen in Musik und Kunst nicht etwas Subjektives? Wie kann Künstliche Intelligenz bei diesem kreativen Prozess eingesetzt werden oder wo stößt sie an Grenzen ?Diesen Fragen widmet sich das Festival FELICIA und möchte hierbei sowohl die künstlerische Perspektive als auch die technische und wissenschaftliche Perspektive vereinen und die Künstler*innen und Wissenschaftler:innen zusammenbringen. \n\n\n2023 feierte das Felicia Festival seine erfolgreiche Premiere mit vielen Mitmach-Workshops\, einem Hörspiel\, Konzerten und einem Live-Hörspiel und konnte dann 2024 mit einem noch größeren Portfolio fortgesetzt werden\, das seinen Fokus erweitert hatte um Bildende Kunst und noch umfangreichere Experimentier­stationen. \n\n\nIm gesamten Gesellschaftshaus und erstmals auch open air im Klosterbergegarten und in den Gruson Gewächs­häusern findet nun 2025 FELICIA in Kooperation mit den Studierendentagen und der Langen Nacht der Wissenschaft statt mit Kunst­performances\, Musikstationen zum Selbererkunden und Erfahren\, Workshops\, einer Hörspiellounge\, Konzerten\, Musikfloors zum Genießen und Tanzen sowie einem Audiowalk. \n\n\nFelicia ist ein echtes Gemeinschafts­werk der Otto-von-Guericke Universität Magdeburg\, der Landeshauptstadt Magdeburg\, des Gesellschafts­hauses Magdeburg\, des Magdeburger Musikverein und des Institutes für Künstliche Intelligenz und Bühne. Einzelene Workshops für Kinder und Jugendliche werden von der .lkj) Sachsen-Anhalt unterstützt. \n\n\nOrganisiert wird das Festival vom Fachgebiet Mobile Dialogsysteme unter der Leitung von Jun.-Prof. Dr. Ingo Siegert an der Otto-von-Guericke-Universität Magdeburg und dem Institut für Künstliche Intelligenz und Bühne in Kooperation mit der Stadt Magdeburg.
URL:https://www.lkj-lsa.de/kalender/kuenstliche-intelligenz-zum-anfassen-und-mitmachen-an-3-tagen/
LOCATION:Gesellschaftshaus Magdeburg\, 	Schönebecker Straße 129\, Magdeburg\, Sachsen-Anhalt\, 39104\, Deutschland
CATEGORIES:Servicestelle für digitale kulturelle Bildung
ATTACH;FMTTYPE=image/jpeg:https://www.lkj-lsa.de/wp-content/uploads/2025/04/250411-Homepage-Header-scaled.jpg
ORGANIZER;CN=".lkj) Sachsen-Anhalt // %C2%BBServicestelle f%C3%BCr digitale Kulturelle Bildung%C2%AB":MAILTO:nadia.boltes@lkj-lsa.de
END:VEVENT
BEGIN:VEVENT
DTSTART;TZID=Europe/Berlin:20250619T140000
DTEND;TZID=Europe/Berlin:20250619T160000
DTSTAMP:20260420T040654
CREATED:20250515T111342Z
LAST-MODIFIED:20250521T102109Z
UID:24352-1750341600-1750348800@www.lkj-lsa.de
SUMMARY:#2 | 20 Fristen für 26 | Alle »Kultur macht stark« Fristen für 2026 | Digitale Informationsveranstaltung
DESCRIPTION:Sie planen ein Projekt der kulturellen Bildung für Kinder und Jugendliche für das Jahr 2026? \nDann besuchen Sie unsere digitale Informationsveranstaltung am\n19. Juni 2025 von 14:00 – 16:00 Uhr. \nDie Kooperationsveranstaltung der Service- und Beratungsstellen von »Kultur macht stark. Bündnisse für Bildung« bietet einen kompakten Überblick zu allen Herbst- und Winter-Fristen in diesem Jahr für Projekte in 2026.\nDie Veranstaltung richtet sich an alle Akteur*innen aus den Bereichen Kultur\, Soziales und Bildung\, die für 2026 ein Projekt mit Kindern und Jugendlichen zwischen drei und 18 Jahren mit einem erschwerten Zugang zu Bildungsangeboten sowie Kindern und Jugendlichen mit Behinderung planen.\nWir geben einen Einblick zu den allgemeinen Förderbedingungen des Programms und zu den spezifischen Förderkonzepten der Programmpartner. So bekommen Sie einen Überblick\, welche Programmpartner für eine Förderung Ihres Projektes in 2026 zur Wahl stehen.\nSie erhalten Informationen\, welche Projekt-Möglichkeiten es gibt und wir beenden die Veranstaltung mit einem kurzen Blick in die Zukunft und dem\, was Sie bis zur Antragstellung beachten müssen. \nAnmeldung bitte bis 18.06.2024 unter folgendem Link:\nhttps://forms.office.com/e/ahqid73MVn \nDie Veranstaltung ist für alle Teilnehmenden aus allen Bundesländern kostenfrei und findet online über Zoom statt. \nHinweis zur Barrierefreiheit \nDie automatische Untertitelung des Videokonferenz-Tools Zoom wird aktiviert sein. Die Veranstaltung ist nicht in Gänze barrierefrei. Wir möchten Menschen in verschiedensten Lebenslagen eine Teilnahme an unserer Veranstaltung ermöglichen.\nWenn wir etwas tun können\, um eine Teilnahme zu ermöglichen\, wenden Sie sich gern an folgenden Kontakt: Nicole Thies\, Servicestelle Sachsen-Anhalt \nEs gibt drei weitere Veranstaltungen\, umgesetzt von den »Kultur macht stark« Beratungs-und Servicestellen der anderen Bundesländer.\nSollten Sie am 25. Juni keine Zeit haben\, gibt es die Möglichkeit\, sich für eine der anderen Veranstaltungen anzumelden. \nVeranstaltung #1 am 18.06.2025 / 10 – 12 Uhr\nAnsprechperson: Britta Deutsch\, Beratungsstelle Rheinland Pfalz\nAnmeldung: https://kultur-macht-stark.lkjnds.de/unsere-veranstaltungen/20-fristen-fuer-25-alle-kultur-macht-stark-fristen-in-diesem-herbst.html \nVeranstaltung #3 am 25.06.2025 13:30 – 15 Uhr\nAnsprechperson: Rike Bill\, Servicestelle Schleswig-Holstein\nAnmeldung: https://kulturmachtstark-sh.de/events/3-20-fristen-fuer-26/ \nVeranstaltung #4 am 04.07.2025 / 14 – 16 Uhr\nAnsprechperson: Tabea Herrmann\, Beratungsstelle Brandenburg\nAnmeldung: https://veranstaltungen-bkg.de/event.php?vnr=a4-108#EventAnmeldung
URL:https://www.lkj-lsa.de/kalender/20-fristen-fuer-26-kultur-macht-stark/
LOCATION:online
CATEGORIES:Kultur macht stark
ATTACH;FMTTYPE=image/png:https://www.lkj-lsa.de/wp-content/uploads/2025/05/Kumasta_06-18_20Fristenfuer26.png
ORGANIZER;CN=".lkj) sachsen-Anhalt / Servicestelle %C2%BBKultur macht stark%C2%AB Sachsen-Anhalt":MAILTO:nicole.thies@lkj-lsa.de
END:VEVENT
BEGIN:VEVENT
DTSTART;TZID=Europe/Berlin:20250625T150000
DTEND;TZID=Europe/Berlin:20250625T180000
DTSTAMP:20260420T040654
CREATED:20250613T124005Z
LAST-MODIFIED:20250613T124012Z
UID:24449-1750863600-1750874400@www.lkj-lsa.de
SUMMARY:Antragswerkstatt 2 | Antrag stellen – aber richtig! Die Praxiswerkstatt für einen erfolgreichen Förderantrag
DESCRIPTION:Sie möchten einen Antrag auf Projektförderung beim House of Resources Magdeburg stellen\, wissen aber nicht genau\, worauf es ankommt? Dann ist unsere Antragswerkstatt genau das Richtige für Sie!\nGemeinsam erarbeiten wir die wichtigsten Schritte für einen erfolgreichen Förderantrag – von der Idee bis zur überzeugenden Antragstellung. Profitieren Sie von praxisnahen Tipps\, Beispielen und individueller Beratung. Bringen Sie gerne Ihre Projektideen mit und stellen Sie Ihre Fragen direkt vor Ort! \n\nVor Ort (begrenzte Teilnehmendenzahl!)\n25.06.2025 von 15 – 18 Uhr | Brandenburger Str. 9\, 39104 Magdeburg | Raum 2.12 \n  \nDie Plätze sind begrenzt! Bitte rechtzeitig anmelden unter:\nhttps://forms.office.com/e/jjDFTrRkL9 \noder über unser beschreibbares Anmeldeformular. \n \n  \nDigitale Fragerunde (keine Begrenzung der Teilnehmendenzahl)\n03.07.2025 von 15 – 16.30 Uhr | https://lkjlsa.collocall.de/wie-8fz-3lb-dm9 \n(Die Teilnahme über collocall funktioniert browserbasiert; kein Download notwendig. Sie benötigen eine stabile Internetverbindung! Bitte wählen Sie sich 14.45 Uhr ein für einen kurzen Technik-Check.) \n  \nWir freuen uns auf euch!
URL:https://www.lkj-lsa.de/kalender/antragswerkstatt-2-antrag-stellen-aber-richtig-die-praxiswerkstatt-fuer-einen-erfolgreichen-foerderantrag/
LOCATION:.lkj) Sachsen-Anhalt / Brandenburger Str. 9 / Raum 2.12\, Magdeburg\, Sachsen-Anhalt\, 39104\, Deutschland
CATEGORIES:Antragswerkstatt,Resonanzboden
ATTACH;FMTTYPE=image/png:https://www.lkj-lsa.de/wp-content/uploads/2025/06/Header-VA_WebsiteLKJ-2.png
ORGANIZER;CN=".lkj) Sachsen-Anhalt // Resonanzboden":MAILTO:resonanzboden@lkj.lsa,de
END:VEVENT
END:VCALENDAR